BEGIN:VCALENDAR
PRODID:NingEventWidget-v1
VERSION:2.0
METHOD:PUBLISH
BEGIN:VTIMEZONE
TZID:Europe/Paris
X-LIC-LOCATION:Europe/Paris
BEGIN:DAYLIGHT
TZOFFSETFROM:+0100
TZOFFSETTO:+0200
TZNAME:CEST
DTSTART:19700329T020000
RRULE:FREQ=YEARLY;BYMONTH=3;BYDAY=-1SU
END:DAYLIGHT
BEGIN:STANDARD
TZOFFSETFROM:+0200
TZOFFSETTO:+0100
TZNAME:CET
DTSTART:19701025T030000
RRULE:FREQ=YEARLY;BYMONTH=10;BYDAY=-1SU
END:STANDARD
END:VTIMEZONE
BEGIN:VEVENT
UID:2485226:Event:143452
DTSTAMP:20260420T001806Z
SUMMARY:Méditation kundalini d'Osho
DESCRIPTION:Cette technique a pour spécificité de combiner le mouvem
 ent corporel et la danse d’une part, avec la méditation silencieuse
  d’autre part. Le stress et les émotions sont soulagés, une relaxa
 tion profonde s’installe. Un processus de transformation intérieure
  se met alors en place et on s'ouvre à son être profond.\n\nLe profe
 sseur de méditation a passé 5 ans avec Osho, a pratiqué cette techn
 ique d'une heure tous les jours durant 10 ans et médite depuis 40 ans
  plusieurs heures par jour.\n\n10€ pour 2h environ\n\nPour plus d'in
 formation, aller sur https://epanews.fr/events/meditation-kundalini-do
 sho
DTSTART;TZID=Europe/Paris:20101102T193000
DTEND;TZID=Europe/Paris:20101102T213000
CATEGORIES:75012
LOCATION:Terre d'Harmonie
WEBSITE:
URL:
CONTACT:06 50 58 00 65
ORGANIZER;CN=Olivier:https://epanews.fr/profile/Olivier441
ATTACH;FMTTYPE="image/jpeg":http://storage.ning.com/topology/rest/1.0/
 file/get/1662353294?profile=original
ATTENDEE;ROLE=REQ-PARTICIPANT;PARTSTAT=ACCEPTED;RSVP=TRUE;CN=Olivier:h
 ttps://epanews.fr/profile/Olivier441
END:VEVENT
END:VCALENDAR
