BEGIN:VCALENDAR
PRODID:NingEventWidget-v1
VERSION:2.0
METHOD:PUBLISH
BEGIN:VTIMEZONE
TZID:Europe/Paris
X-LIC-LOCATION:Europe/Paris
BEGIN:DAYLIGHT
TZOFFSETFROM:+0100
TZOFFSETTO:+0200
TZNAME:CEST
DTSTART:19700329T020000
RRULE:FREQ=YEARLY;BYMONTH=3;BYDAY=-1SU
END:DAYLIGHT
BEGIN:STANDARD
TZOFFSETFROM:+0200
TZOFFSETTO:+0100
TZNAME:CET
DTSTART:19701025T030000
RRULE:FREQ=YEARLY;BYMONTH=10;BYDAY=-1SU
END:STANDARD
END:VTIMEZONE
BEGIN:VEVENT
UID:2485226:Event:1141638
DTSTAMP:20260422T134840Z
SUMMARY:Meditation et Yoga tibétain par Samten Yeshe Rinpoché
DESCRIPTION:Dans le cadre des enseignements hebdomadaires de Samten Ye
 she Rinpoché, une occasion unique de recevoir des enseignements authe
 ntiques sur la méditation et le yoga tibétain par un maître bouddhi
 ste tibétain.\nDimanche 3 février :\n\nde 11h à 12h30: Yoga tibéta
 in et Méditation \nde 17h à 19h:  Méditation\n\nPAF: 7 euros mini
 mum pour chaque session\nRenseignements/ Inscription nécessaire compt
 e tenu du nombre de places limité: merci de contacter Judith au 06 
 10 47 39 82 / judith.soussans@gmail.com\n\nPour plus d'information, a
 ller sur https://epanews.fr/events/meditation-et-yoga-tib-tain-par-sam
 ten-yeshe-rinpoch
DTSTART;TZID=Europe/Paris:20130203T110000
DTEND;TZID=Europe/Paris:20130203T190000
CATEGORIES:34
LOCATION:Centre de l'Arbre, Montpellier, Les Arceaux
WEBSITE:
URL:
CONTACT:0610473982
ORGANIZER;CN="judith soussans":https://epanews.fr/profile/judithsoussa
 ns
ATTACH;FMTTYPE="image/jpeg":http://storage.ning.com/topology/rest/1.0/
 file/get/1662748995?profile=original
ATTENDEE;ROLE=REQ-PARTICIPANT;PARTSTAT=ACCEPTED;RSVP=TRUE;CN="judith s
 oussans":https://epanews.fr/profile/judithsoussans
END:VEVENT
END:VCALENDAR
