BEGIN:VCALENDAR
PRODID:NingEventWidget-v1
VERSION:2.0
METHOD:PUBLISH
BEGIN:VTIMEZONE
TZID:Europe/Paris
X-LIC-LOCATION:Europe/Paris
BEGIN:DAYLIGHT
TZOFFSETFROM:+0100
TZOFFSETTO:+0200
TZNAME:CEST
DTSTART:19700329T020000
RRULE:FREQ=YEARLY;BYMONTH=3;BYDAY=-1SU
END:DAYLIGHT
BEGIN:STANDARD
TZOFFSETFROM:+0200
TZOFFSETTO:+0100
TZNAME:CET
DTSTART:19701025T030000
RRULE:FREQ=YEARLY;BYMONTH=10;BYDAY=-1SU
END:STANDARD
END:VTIMEZONE
BEGIN:VEVENT
UID:2485226:Event:2569951
DTSTAMP:20260422T151716Z
SUMMARY:Medit'soupe
DESCRIPTION:MEDIT’SOUPE: Découverte d’un outil d’épanouissemen
 t personnelDégustation d’une soupe faite maison et temps de partage
 Méditation guidéeAmbiance conviviale Le 11 février 2016 à 19 :15\n
 Présentation de la méthode TIPI comment se libérer des difficultés
  émotionnelles, phobies, angoisses, irritabilité, mal-être au quoti
 dien en se connectant très naturellement à la mémoire de nos sensat
 ions physiques.Par Marie-christine Lacoumette praticienne méthodes TI
 PI , ESPERE , Généalogie intuitive.\nRaphaële Claerhout, kinésiolo
 gue : Méditation guidée\nLieu : les logis de Bélavista, La Lauze, D
 27 à la sortie d‘Aniane en direction de La BoissièreDates : les je
 udis de 19h15 à 21h : 14 janvier, 11 février, 10 mars, 14 avril 2016
 Tarifs : Participation 10€, adhésion 5€Contact : par téléphone 
 : 06.76.75.05.70 ou par mail : novodomo@yahoo.fr Réservation nécessa
 ire pour la fraicheur de la soupe Covoiturage et lampe électrique uti
 lesEn savoir plus: http://www.novodomo.fr et http://leslogisdebelavist
 a.fr\n\nPour plus d'information, aller sur https://epanews.fr/events/m
 edit-soupe
DTSTART;TZID=Europe/Paris:20160211T191500
DTEND;TZID=Europe/Paris:20160211T211500
CATEGORIES:34
LOCATION:Aniane, Logis Bellavista
WEBSITE:http://www.novodomo.fr
URL:http://www.novodomo.fr
CONTACT:06.76.75.05.70
ORGANIZER:Association Novodomo
ATTACH;FMTTYPE="image/jpeg":
ATTENDEE;ROLE=REQ-PARTICIPANT;PARTSTAT=ACCEPTED;RSVP=TRUE;CN=Kerstin:h
 ttps://epanews.fr/profile/Kerstin
END:VEVENT
END:VCALENDAR
