BEGIN:VCALENDAR
PRODID:NingEventWidget-v1
VERSION:2.0
METHOD:PUBLISH
BEGIN:VTIMEZONE
TZID:Europe/Paris
X-LIC-LOCATION:Europe/Paris
BEGIN:DAYLIGHT
TZOFFSETFROM:+0100
TZOFFSETTO:+0200
TZNAME:CEST
DTSTART:19700329T020000
RRULE:FREQ=YEARLY;BYMONTH=3;BYDAY=-1SU
END:DAYLIGHT
BEGIN:STANDARD
TZOFFSETFROM:+0200
TZOFFSETTO:+0100
TZNAME:CET
DTSTART:19701025T030000
RRULE:FREQ=YEARLY;BYMONTH=10;BYDAY=-1SU
END:STANDARD
END:VTIMEZONE
BEGIN:VEVENT
UID:2485226:Event:976310
DTSTAMP:20260421T125033Z
SUMMARY:medecine du XXIème siècle
DESCRIPTION:Je propose de vous offrir un après-midi \"projection/pré
 sentation\" d'une méthode qui a déjà permis à des milliers de pers
 onnes dans le monde d'en ressentir des bienfaits incomparables.\nCe se
 ra pour moi l'occasion de vous parler de ce qui m’est arrivé en 201
 0.\nSuite à une maladie auto-immune diagnostiquée il y 3 ans j'ai r
 etrouvé la santé sans être obligée de prendre les immunosuppresseu
 rs qui m'avaient été prescrits à ma sortie d'hôpital.\nGrâce à c
 ette méthode appelée thérapie Bemer, toutes les fonctions de mon or
 ganisme ont été régulées par le rétablissement de ma circulation 
 microcapillaire (vaisseaux 10 x plus  fins qu'un cheveu). Après 20 a
 ns d'anti-inflammatoires pour ostéoporose sévère et arthrose chroni
 que, je ne prends plus aucun médicament malgré mes bientôt 68 ans. 
 Cela s'applique à toutes les maladies et à tous les âges.\nUne proj
 ection d'environ 1h (inclus un film inédit sur les résultats obtenus
  en hôpital dans le cas de sclérose en plaques) sera organisée prè
 s de chez vous afin de mieux vous décrire cette méthode qui m'a perm
 is de revivre très agréablement aujourd'hui.\nSéance  gratuite d'i
 nformation à SIX-FOURS le mercredi 24 octobre à 17H \nUn soin d'1H 
 vous sera offert suite à la présentation (jour et heure à votre me
 illeure convenance). \nSi la date du 24/10 ne vous convient pas cont
 actez-moi, d’autres dates étant encore à programmer (0623583675) o
 u moniquedelneste@hotmail.com\n\nPour plus d'information, aller sur ht
 tps://epanews.fr/events/medecine-du-xxi-me-siecle
DTSTART;TZID=Europe/Paris:20121024T170000
DTEND;TZID=Europe/Paris:20121024T183000
CATEGORIES:83
LOCATION:Domaine de la Coudoulière
WEBSITE:
URL:
CONTACT:0623583675 - 0494340466
ORGANIZER;CN="Monique DELNESTE":https://epanews.fr/profile/MoniqueDELN
 ESTE
ATTACH;FMTTYPE="image/jpeg":http://storage.ning.com/topology/rest/1.0/
 file/get/1662681217?profile=original
ATTENDEE;ROLE=REQ-PARTICIPANT;PARTSTAT=ACCEPTED;RSVP=TRUE;CN="Monique 
 DELNESTE":https://epanews.fr/profile/MoniqueDELNESTE
END:VEVENT
END:VCALENDAR
