BEGIN:VCALENDAR
PRODID:NingEventWidget-v1
VERSION:2.0
METHOD:PUBLISH
BEGIN:VTIMEZONE
TZID:Europe/Paris
X-LIC-LOCATION:Europe/Paris
BEGIN:DAYLIGHT
TZOFFSETFROM:+0100
TZOFFSETTO:+0200
TZNAME:CEST
DTSTART:19700329T020000
RRULE:FREQ=YEARLY;BYMONTH=3;BYDAY=-1SU
END:DAYLIGHT
BEGIN:STANDARD
TZOFFSETFROM:+0200
TZOFFSETTO:+0100
TZNAME:CET
DTSTART:19701025T030000
RRULE:FREQ=YEARLY;BYMONTH=10;BYDAY=-1SU
END:STANDARD
END:VTIMEZONE
BEGIN:VEVENT
UID:2485226:Event:1845306
DTSTAMP:20260421T185132Z
SUMMARY:Matteo CAVALERI
DESCRIPTION:Matteo Cavaleri sera présent à Sausset les pins du 28 Ma
 rs au 4 avril 2014,il présentera son livre \"S'orienter pour donner u
 n sens à sa vie \" et consultera sur rendez-vous.\nMatteo :guérisseu
 r,thérapeute.....\nsite:www.matteo-cavaleri.fr  tel:06/77/05/12/62\n
 \nPour plus d'information, aller sur https://epanews.fr/events/matteo-
 cavaleri
DTSTART;TZID=Europe/Paris:20140328T210000
DTEND;TZID=Europe/Paris:20140328T230000
CATEGORIES:13
LOCATION:Sausset les pins
WEBSITE:http://www.matteo-cavaleri.fr
URL:http://www.matteo-cavaleri.fr
CONTACT:06/77/05/12/62
ORGANIZER;CN=Anne1324:https://epanews.fr/profile/Anne1324
ATTACH;FMTTYPE="image/jpeg":http://storage.ning.com/topology/rest/1.0/
 file/get/1663095494?profile=original
ATTENDEE;ROLE=REQ-PARTICIPANT;PARTSTAT=ACCEPTED;RSVP=TRUE;CN=Anne1324:
 https://epanews.fr/profile/Anne1324
END:VEVENT
END:VCALENDAR
