BEGIN:VCALENDAR
PRODID:NingEventWidget-v1
VERSION:2.0
METHOD:PUBLISH
BEGIN:VTIMEZONE
TZID:Europe/Paris
X-LIC-LOCATION:Europe/Paris
BEGIN:DAYLIGHT
TZOFFSETFROM:+0100
TZOFFSETTO:+0200
TZNAME:CEST
DTSTART:19700329T020000
RRULE:FREQ=YEARLY;BYMONTH=3;BYDAY=-1SU
END:DAYLIGHT
BEGIN:STANDARD
TZOFFSETFROM:+0200
TZOFFSETTO:+0100
TZNAME:CET
DTSTART:19701025T030000
RRULE:FREQ=YEARLY;BYMONTH=10;BYDAY=-1SU
END:STANDARD
END:VTIMEZONE
BEGIN:VEVENT
UID:2485226:Event:2749066
DTSTAMP:20260422T202852Z
SUMMARY:Atelier massage tantrique Marseille 13001
DESCRIPTION:Atelier massage tantrique, samedi 16 décembre 20h-23h , s
 oirée réservée aux couples et aux personnes désireuses de particip
 er ensembles.\nPour plus d'infos, merci de nous contacter par téléph
 one au 07.68.91.27.00\n\n\nPour plus d'information, aller sur https://
 epanews.fr/events/massage-tantrique-marseille
DTSTART;TZID=Europe/Paris:20161216T200000
DTEND;TZID=Europe/Paris:20161216T230000
CATEGORIES:13
LOCATION:MARSEILLE
WEBSITE:http://www.massage-tantrik.fr
URL:http://www.massage-tantrik.fr
CONTACT:07.68.91.27.00
ORGANIZER:
ATTACH;FMTTYPE="image/jpeg":http://storage.ning.com/topology/rest/1.0/
 file/get/1663625977?profile=original
ATTENDEE;ROLE=REQ-PARTICIPANT;PARTSTAT=ACCEPTED;RSVP=TRUE;CN=neha:http
 s://epanews.fr/profile/ingrid513
END:VEVENT
END:VCALENDAR
