BEGIN:VCALENDAR
PRODID:NingEventWidget-v1
VERSION:2.0
METHOD:PUBLISH
BEGIN:VTIMEZONE
TZID:Europe/Paris
X-LIC-LOCATION:Europe/Paris
BEGIN:DAYLIGHT
TZOFFSETFROM:+0100
TZOFFSETTO:+0200
TZNAME:CEST
DTSTART:19700329T020000
RRULE:FREQ=YEARLY;BYMONTH=3;BYDAY=-1SU
END:DAYLIGHT
BEGIN:STANDARD
TZOFFSETFROM:+0200
TZOFFSETTO:+0100
TZNAME:CET
DTSTART:19701025T030000
RRULE:FREQ=YEARLY;BYMONTH=10;BYDAY=-1SU
END:STANDARD
END:VTIMEZONE
BEGIN:VEVENT
UID:2485226:Event:2667651
DTSTAMP:20260421T130834Z
SUMMARY:Massage tantrique cachemiry  entre Hommes.
DESCRIPTION:Massage tantrique cachemiry  entre Homme.\nUne formation 
 dans un espace privilégié, reconnaissance fraternelle, réconciliati
 on\nLes 27 & 28 août 2016 A Genève  \n \nLa formation proposée s
 e fait dans un climat de pleine confiance et un cadre de sécurité pr
 opices au processus de transformation, dans le respect de chaque indiv
 idualité et des rythmes personnels. Stage ouvert à tous après une c
 onversation téléphonique.\n \nChristophe DACIER formateur et théra
 peute, bénéficie d'une longue expérience des massages, du travail c
 orporel, ainsi que de l'animation de groupe et des séances individuel
 les.\n Contact : cdacier@free.fr 0612199141 ou pour la Suisse 078722
 5348\n \nPlus d’informations et DVD du massage enseigné sur notre 
 site :\nhttp://www.relations-d-amour.net\n \n A Genève   Accès 
 aisé par tram – gares TGV et France voisine / 210€ ou 240 Fch\n 
 \n\nPour plus d'information, aller sur https://epanews.fr/events/massa
 ge-tantrique-cachemiry-entre-hommes
DTSTART;TZID=Europe/Paris:20160827T100000
DTEND;TZID=Europe/Paris:20160828T180000
CATEGORIES:suisse
LOCATION:Geneve
WEBSITE:http://relations-d-amour.net
URL:http://relations-d-amour.net
CONTACT:0612199141 0787225348
ORGANIZER;CN="Christophe Dacier":https://epanews.fr/profile/Christophe
 Dacier
ATTACH;FMTTYPE="image/jpeg":http://storage.ning.com/topology/rest/1.0/
 file/get/1663580056?profile=original
ATTENDEE;ROLE=REQ-PARTICIPANT;PARTSTAT=ACCEPTED;RSVP=TRUE;CN="Christop
 he Dacier":https://epanews.fr/profile/ChristopheDacier
END:VEVENT
END:VCALENDAR
