BEGIN:VCALENDAR
PRODID:NingEventWidget-v1
VERSION:2.0
METHOD:PUBLISH
BEGIN:VTIMEZONE
TZID:Europe/Paris
X-LIC-LOCATION:Europe/Paris
BEGIN:DAYLIGHT
TZOFFSETFROM:+0100
TZOFFSETTO:+0200
TZNAME:CEST
DTSTART:19700329T020000
RRULE:FREQ=YEARLY;BYMONTH=3;BYDAY=-1SU
END:DAYLIGHT
BEGIN:STANDARD
TZOFFSETFROM:+0200
TZOFFSETTO:+0100
TZNAME:CET
DTSTART:19701025T030000
RRULE:FREQ=YEARLY;BYMONTH=10;BYDAY=-1SU
END:STANDARD
END:VTIMEZONE
BEGIN:VEVENT
UID:2485226:Event:1613966
DTSTAMP:20260421T194854Z
SUMMARY:massage Sensitif atelier pour tous Noël 2013
DESCRIPTION:Envie de vous sentir bien , reposé, tranquille, en paix a
 vec vous même et les autres, apprendre à masser avec une belle techn
 ique, donner et recevoir sans juger , être en lien avec l'autre en po
 sant la bonne limite.\nEssayer le Massage Sensitif dans un atelier ouv
 ert à tous le samedi 21 décembre 14h-17h30 - 30 euros pour les membr
 es d'épanews.\nAvant les fêtes profitez de ce tarifs de bienvenue, p
 our un toucher de qualité !\nanimation :Yvonne  Sebbag formatrice en
  Massage Sensitif depuis plus de 16 ans . praticienne de shiatsu et ma
 ssage Thaï.\n\nPour plus d'information, aller sur https://epanews.fr/
 events/massage-sensitif-atelier-pour-tous-no-l-2013
DTSTART;TZID=Europe/Paris:20131221T140000
DTEND;TZID=Europe/Paris:20131221T173000
CATEGORIES:13
LOCATION:marseille montolivet  12è
WEBSITE:
URL:
CONTACT:06 62 44 93 94 ou 04 91 49 38 77
ORGANIZER;CN="SEBBAG YVONNE":https://epanews.fr/profile/SEBBAGYVONNE
ATTACH;FMTTYPE="image/jpeg":http://storage.ning.com/topology/rest/1.0/
 file/get/1662964669?profile=original
ATTENDEE;ROLE=REQ-PARTICIPANT;PARTSTAT=ACCEPTED;RSVP=TRUE;CN=Pascal:ht
 tps://epanews.fr/profile/Pascal166
ATTENDEE;ROLE=REQ-PARTICIPANT;PARTSTAT=ACCEPTED;RSVP=TRUE;CN="SEBBAG Y
 VONNE":https://epanews.fr/profile/SEBBAGYVONNE
END:VEVENT
END:VCALENDAR
