BEGIN:VCALENDAR
PRODID:NingEventWidget-v1
VERSION:2.0
METHOD:PUBLISH
BEGIN:VTIMEZONE
TZID:Europe/Paris
X-LIC-LOCATION:Europe/Paris
BEGIN:DAYLIGHT
TZOFFSETFROM:+0100
TZOFFSETTO:+0200
TZNAME:CEST
DTSTART:19700329T020000
RRULE:FREQ=YEARLY;BYMONTH=3;BYDAY=-1SU
END:DAYLIGHT
BEGIN:STANDARD
TZOFFSETFROM:+0200
TZOFFSETTO:+0100
TZNAME:CET
DTSTART:19701025T030000
RRULE:FREQ=YEARLY;BYMONTH=10;BYDAY=-1SU
END:STANDARD
END:VTIMEZONE
BEGIN:VEVENT
UID:2485226:Event:527258
DTSTAMP:20260423T043110Z
SUMMARY:massage+sauna intuitif
DESCRIPTION:L'associationÂ  LAMIBONHEUR vous propose un atelier sauna 
 +massage intuitifÂ \nDe 14H00 Ã  18H00Â \nLe nombre de participants es
 t limitÃ© Ã  8 personnesÂ \nSeules les personnes ayant dÃ©ja pratiquÃ©
 Â  Ã  un atelier au sein de l'association pourront participÃ©Â  ouÂ  a
 lors Ãªtre accompagnÃ© .\nPour ceux qui le dÃ©sirent, possibilitÃ© de 
 ne faire que le sauna ou que l'atelier massage.\nLe massage intuitfÂ e
 st une faÃ§on de nous adapter Ã  ce que nous ressentons de la personne
  massÃ©e.Pour Ãªtre pratiquÃ© au mieux, il nÃ©cÃ©ssite de dÃ©velopper 
 notre capacitÃ© d'Ã©coute et de comprÃ©hension de ce que vit Â l'autre
 . Tout le monde peut le pratiquer.\nDans le sauna, la nuditÃ© est la n
 orme, pour les femmes comme pour les hommes. Une serviette est posÃ©e 
 entre le banc et la peau, pour absorber la sueur et protÃ©gÃ© la peau 
 de la chaleur du bois. Le port d'unÂ sleep est considÃ©rÃ© comme anti-
 hygienique, la chaleur et l'humiditÃ©Â y favorisant le dÃ©veloppement 
 de germes.\nJe propose une alternativeÂ entre le maillot de bains et l
 a nuditÃ©, c'est de mettre un parÃ©o ou une serviette autour de la tai
 lle. Le sauna est avant tout un instant de dÃ©tente et de convivialitÃ
 © dans le respect d'une hygiÃ¨ne garantissant le confort et le respect
  de chacun.Â \nPRIX : 20â‚¬Â \n\nPour plus d'information, aller sur ht
 tps://epanews.fr/events/massage-sauna-intuitif
DTSTART;TZID=Europe/Paris:20111009T100000
DTEND;TZID=Europe/Paris:20111009T180000
CATEGORIES:83
LOCATION:TOULON
WEBSITE:
URL:
CONTACT:06 61 91 28 00
ORGANIZER;CN="Patrick MALLET":https://epanews.fr/profile/mallet
ATTACH;FMTTYPE="image/jpeg":http://storage.ning.com/topology/rest/1.0/
 file/get/1662462434?profile=original
ATTENDEE;ROLE=REQ-PARTICIPANT;PARTSTAT=ACCEPTED;RSVP=TRUE;CN=Arshi:htt
 ps://epanews.fr/profile/Arshi
ATTENDEE;ROLE=REQ-PARTICIPANT;PARTSTAT=ACCEPTED;RSVP=TRUE;CN="Dame Nat
 ure":https://epanews.fr/profile/DameNature
ATTENDEE;ROLE=REQ-PARTICIPANT;PARTSTAT=ACCEPTED;RSVP=TRUE;CN=18cathy:h
 ttps://epanews.fr/profile/18cathy
ATTENDEE;ROLE=REQ-PARTICIPANT;PARTSTAT=ACCEPTED;RSVP=TRUE;CN="Patrick 
 MALLET":https://epanews.fr/profile/mallet
END:VEVENT
END:VCALENDAR
