BEGIN:VCALENDAR
PRODID:NingEventWidget-v1
VERSION:2.0
METHOD:PUBLISH
BEGIN:VTIMEZONE
TZID:Europe/Paris
X-LIC-LOCATION:Europe/Paris
BEGIN:DAYLIGHT
TZOFFSETFROM:+0100
TZOFFSETTO:+0200
TZNAME:CEST
DTSTART:19700329T020000
RRULE:FREQ=YEARLY;BYMONTH=3;BYDAY=-1SU
END:DAYLIGHT
BEGIN:STANDARD
TZOFFSETFROM:+0200
TZOFFSETTO:+0100
TZNAME:CET
DTSTART:19701025T030000
RRULE:FREQ=YEARLY;BYMONTH=10;BYDAY=-1SU
END:STANDARD
END:VTIMEZONE
BEGIN:VEVENT
UID:2485226:Event:2344650
DTSTAMP:20260422T182330Z
SUMMARY:Massage party + picnic sur l'ile du lac du bois de boulogne
DESCRIPTION:Massage party + picnic sur l'ile du lac du bois de boulogn
 e en ce Samedi ensoleillé !\nTempérature prévue : 27 degrés.\nATEL
 IER GRATUIT\n\n \nJe vous propose donc de nous retrouver tous sur l'I
 le du Lac du Bois de Boulogne où se situe le restaurant Le Chalet des
  Iles pour un programme en extérieur :\n \n- Massage party de 10 heu
 res à 13 heures\n \n- au choix : massage énergétique ou massage ph
 ysique\n \n- Picnic à partir de 13 heures.\n \n \n \nPour le mass
 age, j'amènerai 6 tables, si nous sommes nombreux et que vous avez le
  courage d'amener votre table de massage, n'hésitez pas !\n \nEssayo
 ns de nous rapprocher de la parité hommes-femmes.\n \nL'idéal : 10 
 hommes et 10 femmes.\n \nRendez-vous donc à 9 h 50 au départ du pe
 tit bateau qui va nous faire traverser le lac jusqu'au Restaurant Le C
 halet des Iles.\n \n \n \nLe Chalet des Iles\n14 Chemin de la Ceint
 ure du Lac Inférieur,\n75016 Paris\n \nhttp://chalet-des-iles.com/\n
  \n Infos pratiques :\n \n- amenez vos serviettes et vos huiles pou
 r le massage\n \n- pour le picnic, chacun participe au déjeuner comm
 e il le souhaite (salade, boisson, fruit,...), tout sera mis en commun
 \n \n- en cas de retard, appelez moi au 06 82 19 47 59\n \n- pour no
 us retrouver sur l'ile, très facile, nous serons sur la gauche en arr
 ivant sur l'ile, prendre le petit pont et vous y êtes.\n \n\nPour pl
 us d'information, aller sur https://epanews.fr/events/massage-party-pi
 cnic-sur-l-ile-du-lac-du-bois-de-boulogne
DTSTART;TZID=Europe/Paris:20150613T100000
DTEND;TZID=Europe/Paris:20150613T160000
CATEGORIES:75
LOCATION:Le Chalet des Iles
WEBSITE:http://chalet-des-iles.com/
URL:http://chalet-des-iles.com/
CONTACT:06 82 19 47 59
ORGANIZER;CN=fabosan:https://epanews.fr/profile/fabosan
ATTACH;FMTTYPE="image/jpeg":http://storage.ning.com/topology/rest/1.0/
 file/get/1663410043?profile=original
ATTENDEE;ROLE=REQ-PARTICIPANT;PARTSTAT=ACCEPTED;RSVP=TRUE;CN=fabosan:h
 ttps://epanews.fr/profile/fabosan
END:VEVENT
END:VCALENDAR
