BEGIN:VCALENDAR
PRODID:NingEventWidget-v1
VERSION:2.0
METHOD:PUBLISH
BEGIN:VTIMEZONE
TZID:Europe/Paris
X-LIC-LOCATION:Europe/Paris
BEGIN:DAYLIGHT
TZOFFSETFROM:+0100
TZOFFSETTO:+0200
TZNAME:CEST
DTSTART:19700329T020000
RRULE:FREQ=YEARLY;BYMONTH=3;BYDAY=-1SU
END:DAYLIGHT
BEGIN:STANDARD
TZOFFSETFROM:+0200
TZOFFSETTO:+0100
TZNAME:CET
DTSTART:19701025T030000
RRULE:FREQ=YEARLY;BYMONTH=10;BYDAY=-1SU
END:STANDARD
END:VTIMEZONE
BEGIN:VEVENT
UID:2485226:Event:1344285
DTSTAMP:20260422T112414Z
SUMMARY:Massage initiatique méthode Alejandro Jodorowsky
DESCRIPTION:Un atelier de massage sur la mémoire corporolle,\nLes mas
 sages des os ,des muscles, de la peau se font avec un processus chaman
 ique,le contact global est privilégié ,avec l'intention de ressource
 r le corps et les corps subtils.\npas de niveau requis ,apportez un pa
 réo et de l'huile\n40e tel inscription 06 16 43 16 49 Daniel\n\n\nPou
 r plus d'information, aller sur https://epanews.fr/events/massage-init
 iatique-m-thode-alejandro-jodorowsky
DTSTART;TZID=Europe/Paris:20130512T140000
DTEND;TZID=Europe/Paris:20130512T190000
CATEGORIES:75
LOCATION:paris 18 ème
WEBSITE:
URL:
CONTACT:06 16 43 16 49
ORGANIZER;CN="daniel labille":https://epanews.fr/profile/daniellabille
 505
ATTACH;FMTTYPE="image/jpeg":http://storage.ning.com/topology/rest/1.0/
 file/get/1662829701?profile=original
ATTENDEE;ROLE=REQ-PARTICIPANT;PARTSTAT=ACCEPTED;RSVP=TRUE;CN="daniel l
 abille":https://epanews.fr/profile/daniellabille505
END:VEVENT
END:VCALENDAR
