BEGIN:VCALENDAR
PRODID:NingEventWidget-v1
VERSION:2.0
METHOD:PUBLISH
BEGIN:VTIMEZONE
TZID:Europe/Paris
X-LIC-LOCATION:Europe/Paris
BEGIN:DAYLIGHT
TZOFFSETFROM:+0100
TZOFFSETTO:+0200
TZNAME:CEST
DTSTART:19700329T020000
RRULE:FREQ=YEARLY;BYMONTH=3;BYDAY=-1SU
END:DAYLIGHT
BEGIN:STANDARD
TZOFFSETFROM:+0200
TZOFFSETTO:+0100
TZNAME:CET
DTSTART:19701025T030000
RRULE:FREQ=YEARLY;BYMONTH=10;BYDAY=-1SU
END:STANDARD
END:VTIMEZONE
BEGIN:VEVENT
UID:2485226:Event:464960
DTSTAMP:20260422T181554Z
SUMMARY:Massage et Sophrologie
DESCRIPTION:\n Dégagement et libération des tensions (physiques et 
 émotionnelles)\n\n-Massages sous la guidance méditative de la sophro
 logie \n -Induire en soi l’apaisement et la détente par la respir
 ation\n-Apprendre les bases d'auto-massage\n \nStage uniquement sur 
 réservation, places limitées (petit groupe) :\n Renseignements et r
 éservation au 06 46 34 69 03 \nTarif: 80€\n\n\n\nPour plus d'infor
 mation, aller sur https://epanews.fr/events/massage-et-sophrologie
DTSTART;TZID=Europe/Paris:20110918T140000
DTEND;TZID=Europe/Paris:20110918T190000
CATEGORIES:83
LOCATION:Toulon
WEBSITE:
URL:
CONTACT:06 46 34 69 03
ORGANIZER;CN=Isabelle:https://epanews.fr/profile/Moubengo
ATTACH;FMTTYPE="image/jpeg":http://storage.ning.com/topology/rest/1.0/
 file/get/1662448190?profile=original
ATTENDEE;ROLE=REQ-PARTICIPANT;PARTSTAT=ACCEPTED;RSVP=TRUE;CN=Isabelle:
 https://epanews.fr/profile/Moubengo
END:VEVENT
END:VCALENDAR
