BEGIN:VCALENDAR
PRODID:NingEventWidget-v1
VERSION:2.0
METHOD:PUBLISH
BEGIN:VTIMEZONE
TZID:Europe/Paris
X-LIC-LOCATION:Europe/Paris
BEGIN:DAYLIGHT
TZOFFSETFROM:+0100
TZOFFSETTO:+0200
TZNAME:CEST
DTSTART:19700329T020000
RRULE:FREQ=YEARLY;BYMONTH=3;BYDAY=-1SU
END:DAYLIGHT
BEGIN:STANDARD
TZOFFSETFROM:+0200
TZOFFSETTO:+0100
TZNAME:CET
DTSTART:19701025T030000
RRULE:FREQ=YEARLY;BYMONTH=10;BYDAY=-1SU
END:STANDARD
END:VTIMEZONE
BEGIN:VEVENT
UID:2485226:Event:92919
DTSTAMP:20260421T120918Z
SUMMARY:massage entre masseurs
DESCRIPTION:Prochaine rencontre dimanche 5 décembre de 10h à 14 heur
 es\nNe pas oublier un tissu à poser sur la table, vos serviettes ou v
 otre peignoir ainsi que votre huile personnelle si vous le désirez. L
 e montant de la participation pour frais est libre.\nN'oubliez pas de 
 téléphoner pour confirmer votre inscription car les places sont limi
 tées. TEL : 04.90.33.48.70\nSi vous avez une table de massage, ce ser
 a bienvenu.\nPour ceux qui désirent partager le repas de midi, portez
  un plat de partage.\nA bientôt .\n\nhttp://epanews.ning.com/group/ma
 ssageavignon\n\nPour plus d'information, aller sur https://epanews.fr/
 events/massage-entre-masseurs
DTSTART;TZID=Europe/Paris:20101205T100000
DTEND;TZID=Europe/Paris:20101205T140000
CATEGORIES:84
LOCATION:Chez Laure Garlin, Centre d'Accueil du Soi
WEBSITE:http://centre.accueil.du.soi.over-blog.com
URL:http://centre.accueil.du.soi.over-blog.com
CONTACT:04 90 33 48 70
ORGANIZER:Laure Garlin
ATTACH;FMTTYPE="image/jpeg":http://storage.ning.com/topology/rest/1.0/
 file/get/1662327895?profile=original
ATTENDEE;ROLE=REQ-PARTICIPANT;PARTSTAT=ACCEPTED;RSVP=TRUE;CN="LAURE GA
 RLIN":https://epanews.fr/profile/LaureGarlin
END:VEVENT
END:VCALENDAR
