BEGIN:VCALENDAR
PRODID:NingEventWidget-v1
VERSION:2.0
METHOD:PUBLISH
BEGIN:VTIMEZONE
TZID:Europe/Paris
X-LIC-LOCATION:Europe/Paris
BEGIN:DAYLIGHT
TZOFFSETFROM:+0100
TZOFFSETTO:+0200
TZNAME:CEST
DTSTART:19700329T020000
RRULE:FREQ=YEARLY;BYMONTH=3;BYDAY=-1SU
END:DAYLIGHT
BEGIN:STANDARD
TZOFFSETFROM:+0200
TZOFFSETTO:+0100
TZNAME:CET
DTSTART:19701025T030000
RRULE:FREQ=YEARLY;BYMONTH=10;BYDAY=-1SU
END:STANDARD
END:VTIMEZONE
BEGIN:VEVENT
UID:2485226:Event:11179
DTSTAMP:20260420T032509Z
SUMMARY:MASSAGE DÉTENTE AVANT LA RENTRÉE
DESCRIPTION:Bonjour à toutes et tous,\n\nSuite au succès du dernier 
 Rendez-vous estival je vous propose de renouveler cette aventure sympa
 thique, corporelle, inoubliable.\n\nRendez-vous\ndimanche 30 août\nde
  14h à 16h30.\nAccueil à partir de 13h45.\n\nUn ATELIER de 2h30 pour
  découvrir le\n\nMASSAGE C.E.P.\nune technique extraordinaire pour ê
 tre\nbien dans son corps, bien dans sa tête.\n\nProgramme :\n14h à 1
 6h : découvrez pendant ces 2 heures le B.A.BA de cette technique (hui
 lage, massage du dos, la respiration, l'écoute). Vous serez tour à t
 our \"masseur/massé\". Travail sur table de massage.\n\n16h à 16h30 
 : après cette découverte, nous aurons faim !!! nous pourrons, pour c
 eux et celles qui le souhaitent, profiter de la pause.\n\nApportez sim
 plement une grande serviette ou drap de bain pour mettre sur la table 
 de massage.\n\nPas besoin d'apporter votre huile, je fournirai tout le
  matériel.\n\nUne participation de 15 euros par personne est demandé
 e pour le matériel, la location de salle et la pause.\n\nAmbiance con
 viviale.\nAnimation par Formatrice professionnelle.\nLieu très agréa
 ble situé au coeur de Marseille.\n\nPour tout renseignement : 06 11 8
 9 20 34.\n\nBonnne semaine et à dimanche pour se ressourcer avant la 
 rentrée !!\n\nPour plus d'information, aller sur https://epanews.fr/e
 vents/massage-detente-avant-la
DTSTART;TZID=Europe/Paris:20090830T140000
DTEND;TZID=Europe/Paris:20090830T163000
CATEGORIES:13
LOCATION:ATELIER MASSAGE À MARSEILLE
WEBSITE:
URL:
CONTACT:06 11 89 20 34
ORGANIZER;CN=VERGER:https://epanews.fr/profile/VERGER
ATTACH;FMTTYPE="image/jpeg":
ATTENDEE;ROLE=REQ-PARTICIPANT;PARTSTAT=ACCEPTED;RSVP=TRUE;CN=VERGER:ht
 tps://epanews.fr/profile/VERGER
END:VEVENT
END:VCALENDAR
