BEGIN:VCALENDAR
PRODID:NingEventWidget-v1
VERSION:2.0
METHOD:PUBLISH
BEGIN:VTIMEZONE
TZID:Europe/Paris
X-LIC-LOCATION:Europe/Paris
BEGIN:DAYLIGHT
TZOFFSETFROM:+0100
TZOFFSETTO:+0200
TZNAME:CEST
DTSTART:19700329T020000
RRULE:FREQ=YEARLY;BYMONTH=3;BYDAY=-1SU
END:DAYLIGHT
BEGIN:STANDARD
TZOFFSETFROM:+0200
TZOFFSETTO:+0100
TZNAME:CET
DTSTART:19701025T030000
RRULE:FREQ=YEARLY;BYMONTH=10;BYDAY=-1SU
END:STANDARD
END:VTIMEZONE
BEGIN:VEVENT
UID:2485226:Event:713433
DTSTAMP:20260423T194429Z
SUMMARY:Massage de Bien-Ãªtre: groupe de femmes
DESCRIPTION:30 mars: Massages du DOS\n\nBeaucoup de femmes prÃ©fÃ¨rent
  la sÃ©curitÃ© du petit groupe de femmes pour commencer Ã  sâ€™initier
  aux massages de relaxation. Cette initiation rÃ©servÃ©e aux femmes nâ
 €™Ã©carte pas les hommes, elle les rÃ©serve pour une rencontre ultÃ©ri
 eure, lorsque le moment sera venu. Cette nouvelle proposition, en para
 llÃ¨le du groupe mixte, peut accueillir des femmes ponctuellement ou Ã
   lâ€™annÃ©e, selon les dÃ©sirs de chacune. Prendre soin de soi est un
 e Ã©tape prÃ©liminaire indispensable Ã  une rencontre harmonieuse avec
  les autres, alors commenÃ§ons par nous chouchouter. Ce cours est -une
  invitation Ã  apprendre des gestes simples qui dÃ©tendent, procurent 
 des sensations de bien-Ãªtre, des techniques pour dissoudre les tensio
 ns en douceur, adaptÃ©es au quotidien.\n\n-un cocktail de techniques e
 mpruntÃ©es Ã  diffÃ©rentes Ã©coles de massage de relaxation : californ
 ien, SGM, sensitif, Chi Nei Tsang, rÃ©flexologie â€¦\n\n-un espace de 
 rencontre avec soi et avec les autres dans le respect de la pudeur de 
 chacune\npour apprendre Ã  masser avec dÃ©licatesse et technicitÃ©, do
 nner et recevoir un toucher de qualitÃ©\n\nChaque stagiaire - observe 
 les dÃ©monstrations des massages Ã©tudiÃ©s\n- reÃ§oit des massages de 
 bien-Ãªtre de la part des autres stagiaires\n- donne des massages de b
 ien-Ãªtre aux autres stagiaires\n\nTarifs :\n1 atelier 3h : 35â‚¬\n1Ã¨
 re fois : 25â‚¬\nAbonnement 3 ateliers : 99â‚¬\nAbonnement 5 ateliers 
 : 150â‚¬\n\nContact et Inscription : Anne-Marie FLOCH 06.61.51.83.40\n
 am.floch@laposte.net http://mainsetmerveilles.over-blog.com\n\nPour pl
 us d'information, aller sur https://epanews.fr/events/massage-de-bien-
 tre-groupe-de-femmes
DTSTART;TZID=Europe/Paris:20120330T184500
DTEND;TZID=Europe/Paris:20120330T220000
CATEGORIES:75
LOCATION:Paris  Faidherbe Chaligny - Bastille
WEBSITE:
URL:
CONTACT:06.61.51.83.40
ORGANIZER;CN="FLOCH Anne-Marie":https://epanews.fr/profile/FLOCHAnneMa
 rie
ATTACH;FMTTYPE="image/jpeg":
ATTENDEE;ROLE=REQ-PARTICIPANT;PARTSTAT=ACCEPTED;RSVP=TRUE;CN="FLOCH An
 ne-Marie":https://epanews.fr/profile/FLOCHAnneMarie
END:VEVENT
END:VCALENDAR
