BEGIN:VCALENDAR
PRODID:NingEventWidget-v1
VERSION:2.0
METHOD:PUBLISH
BEGIN:VTIMEZONE
TZID:Europe/Paris
X-LIC-LOCATION:Europe/Paris
BEGIN:DAYLIGHT
TZOFFSETFROM:+0100
TZOFFSETTO:+0200
TZNAME:CEST
DTSTART:19700329T020000
RRULE:FREQ=YEARLY;BYMONTH=3;BYDAY=-1SU
END:DAYLIGHT
BEGIN:STANDARD
TZOFFSETFROM:+0200
TZOFFSETTO:+0100
TZNAME:CET
DTSTART:19701025T030000
RRULE:FREQ=YEARLY;BYMONTH=10;BYDAY=-1SU
END:STANDARD
END:VTIMEZONE
BEGIN:VEVENT
UID:2485226:Event:180868
DTSTAMP:20260421T074745Z
SUMMARY:Massage Chrysalis
DESCRIPTION:Bonjour à tous\njE VOUS SOUHAITE UNE BONNE ANNEE PLEINE D
 E SANTEE DE BONHEUR ET D AMOUR et pour débuterJe vous propose pour le
  mois de JANVIER un atelier massage CHRYSALISle dimanche 30 janvier 20
 11vous pouvez diffuser l'info à vos amis.Il s'agit d'un atelier ou le
 s personnes nouvelles peuvent découvrir les bienfaits de ce massage e
 n confiance et pour les habitués pratiquer leur savoir avec de nouvel
 les énergies car dans le toucher il n'y a jamais rien d'acquit.Cet at
 elier permet de découvrir, pratiquer et de développer la connaissanc
 e de cette methode de massage.Pour rappel il s'agit d'une méthode de 
 massage relaxant et thérapeutique, qui se pratique habillé ou légè
 rement dévetu pour le massage à l'huile, qui intègre la dimension c
 orporellle, spychospirituelle et énergétique de la personne. ce mass
 age a des origines osthéopathique et Amèrindienne mais c'est une mé
 thode francaise.Tenue conseillée: Les vêtements servent de support a
 u massage donc une tenue souple de jogging pantalon+ un polo à manche
  longue en coton est préférable.Repas : Apporter un plat de votre ch
 oix que nous partagerons tous ensemble vous trouverez sur place des bo
 issons et le couvert.Confort : Apportez un tapis mousse ou une serviet
 te de plage ainsi qu'un coussin.Prix 15 EUROS pour les frais\nNombre d
 e place limité à 12 participantsPour rappel cette méthode de massag
 e participe au bien être du massé mais ne remplace pas les prescript
 ions de votre médecin traitant.\n\nPour plus d'information, aller sur
  https://epanews.fr/events/massage-chrysalis-2
DTSTART;TZID=Europe/Paris:20110130T094500
DTEND;TZID=Europe/Paris:20110130T194500
CATEGORIES:83
LOCATION:CHEZ MOI A TOULON   83
WEBSITE:
URL:
CONTACT:06 61 91 28 00
ORGANIZER;CN="Patrick MALLET":https://epanews.fr/profile/mallet
ATTACH;FMTTYPE="image/jpeg":http://storage.ning.com/topology/rest/1.0/
 file/get/1662371442?profile=original
ATTENDEE;ROLE=REQ-PARTICIPANT;PARTSTAT=ACCEPTED;RSVP=TRUE;CN="Bezard s
 abryna":https://epanews.fr/profile/Bezardsabryna
ATTENDEE;ROLE=REQ-PARTICIPANT;PARTSTAT=ACCEPTED;RSVP=TRUE;CN="Françoi
 se Elisabeth":https://epanews.fr/profile/FrancoiseElisabeth
ATTENDEE;ROLE=REQ-PARTICIPANT;PARTSTAT=ACCEPTED;RSVP=TRUE;CN="OLLIVIER
  Annie":https://epanews.fr/profile/OLLIVIERAnnie
ATTENDEE;ROLE=REQ-PARTICIPANT;PARTSTAT=ACCEPTED;RSVP=TRUE;CN="Dame Nat
 ure":https://epanews.fr/profile/DameNature
ATTENDEE;ROLE=REQ-PARTICIPANT;PARTSTAT=ACCEPTED;RSVP=TRUE;CN=18cathy:h
 ttps://epanews.fr/profile/18cathy
ATTENDEE;ROLE=REQ-PARTICIPANT;PARTSTAT=ACCEPTED;RSVP=TRUE;CN="bonnette
  jocelyne":https://epanews.fr/profile/bonnettejocelyne
ATTENDEE;ROLE=REQ-PARTICIPANT;PARTSTAT=ACCEPTED;RSVP=TRUE;CN="Patrick 
 MALLET":https://epanews.fr/profile/mallet
ATTENDEE;ROLE=REQ-PARTICIPANT;PARTSTAT=TENTATIVE;RSVP=TRUE;CN="DE BURG
 O Clara":https://epanews.fr/profile/DEBURGOClara
END:VEVENT
END:VCALENDAR
