BEGIN:VCALENDAR
PRODID:NingEventWidget-v1
VERSION:2.0
METHOD:PUBLISH
BEGIN:VTIMEZONE
TZID:Europe/Paris
X-LIC-LOCATION:Europe/Paris
BEGIN:DAYLIGHT
TZOFFSETFROM:+0100
TZOFFSETTO:+0200
TZNAME:CEST
DTSTART:19700329T020000
RRULE:FREQ=YEARLY;BYMONTH=3;BYDAY=-1SU
END:DAYLIGHT
BEGIN:STANDARD
TZOFFSETFROM:+0200
TZOFFSETTO:+0100
TZNAME:CET
DTSTART:19701025T030000
RRULE:FREQ=YEARLY;BYMONTH=10;BYDAY=-1SU
END:STANDARD
END:VTIMEZONE
BEGIN:VEVENT
UID:2485226:Event:950776
DTSTAMP:20260421T031821Z
SUMMARY:Massage chrysalis
DESCRIPTION:ATELIER MASSAGE CHRYSALIS\nÂ \nL'association LAMIBONHEURÂ 
 vous propose pour le mois Â un atelier le dimanche 21 octobre 2012\n V
 ous pouvez diffuser l'information Ã  vos amis ou venir avec quelquâ€™u
 n (merci de prÃ©venir).\n Vous pouvezÂ vous inscrire sur le siteÂ ou m
 'envoyer un mail pour confirmerÂ  votre venue ou encore mâ€™appeler au
  tÃ©lÃ©phone directement pour tout renseignement si nÃ©cessaire.Â \n I
 l s'agit d'un atelier ou les personnes nouvelles peuvent dÃ©couvrir le
 s bienfaits de ce massage en confiance et pour les habituÃ©s, pratique
 r leur savoir avec de nouvelles Ã©nergies car dans le toucher il n'y a
  jamais rien d'acquis.\n Cet atelier permet de dÃ©couvrir, pratiquer e
 t dÃ©velopper la connaissance de cette mÃ©thode de massage.  Pour rapp
 el, il s'agit d'une mÃ©thode de massage relaxant avec une dimensionÂ  
 thÃ©rapeutique pour laquelle je suis diplÃ´mÃ©. Il se pratique habillÃ
 © ou lÃ©gÃ¨rement dÃ©vÃªtu pour le massage Ã  l'huile et intÃ¨gre la d
 imension corporelle, psychospirituelle et Ã©nergÃ©tique de la personne
 . Ce massage a des origines osthÃ©opathique et AmÃ©rindienne, mais c'e
 st une mÃ©thode franÃ§aise.\n Tenue conseillÃ©e : les vÃªtements serve
 nt de support au massage donc une tenue souple, un pantalon jogging pa
 r exemple, et un polo Ã  manches longues en coton sont prÃ©fÃ©rables, 
 ainsi quâ€™une paire de chaussettes aussi en coton ou en laine (pas de
  synthÃ©tique).\nÂ \nConfort : vous trouverez sur place des couverture
 s et des coussins, mais apportez un petit matelas et une serviette de 
 plage (longueur 1m80) pour ne pas tÃ¢cher le matelas.\n Repas sur le m
 ode du buffet en partage : Apportez un plat de votre choix que nous pa
 rtagerons tous ensemble, vous trouverez sur place des boissons et le c
 ouvert.\n CoÃ»t de lâ€™atelier : 15 â‚¬ pour les frais\nCotisation 5â‚
 ¬\nPhoneÂ : 06 61 91 28 00\n Je vous rappelle que cet atelier massage 
 participe Ã  votre bien Ãªtre mais ne remplace pas votre mÃ©decin trai
 tant ni ses prescriptions.\nÂ \n\nPour plus d'information, aller sur h
 ttps://epanews.fr/events/massage-chrysalis-15
DTSTART;TZID=Europe/Paris:20121021T094500
DTEND;TZID=Europe/Paris:20121021T180000
CATEGORIES:83, 13
LOCATION:toulon
WEBSITE:http://maps.google.com/?ie=UTF8&ll=43.13575,5.902498&spn=0.009
 098,0.01929&hnear=20+Rue+de+la+Martinique,+83200+Toulon,+Var,+Provence
 -Alpes-C%C3%B4te+d'Azur,+France&t=m&z=16
URL:http://maps.google.com/?ie=UTF8&ll=43.13575,5.902498&spn=0.009098,
 0.01929&hnear=20+Rue+de+la+Martinique,+83200+Toulon,+Var,+Provence-Alp
 es-C%C3%B4te+d'Azur,+France&t=m&z=16
CONTACT:06 61 91 28 00
ORGANIZER;CN="Patrick MALLET":https://epanews.fr/profile/mallet
ATTACH;FMTTYPE="image/jpeg":http://storage.ning.com/topology/rest/1.0/
 file/get/1662444831?profile=original
ATTENDEE;ROLE=REQ-PARTICIPANT;PARTSTAT=ACCEPTED;RSVP=TRUE;CN=laurence:
 https://epanews.fr/profile/laurence748
ATTENDEE;ROLE=REQ-PARTICIPANT;PARTSTAT=ACCEPTED;RSVP=TRUE;CN=18cathy:h
 ttps://epanews.fr/profile/18cathy
ATTENDEE;ROLE=REQ-PARTICIPANT;PARTSTAT=ACCEPTED;RSVP=TRUE;CN="Patrick 
 MALLET":https://epanews.fr/profile/mallet
ATTENDEE;ROLE=REQ-PARTICIPANT;PARTSTAT=TENTATIVE;RSVP=TRUE;CN="Dame Na
 ture":https://epanews.fr/profile/DameNature
END:VEVENT
END:VCALENDAR
