BEGIN:VCALENDAR
PRODID:NingEventWidget-v1
VERSION:2.0
METHOD:PUBLISH
BEGIN:VTIMEZONE
TZID:Europe/Paris
X-LIC-LOCATION:Europe/Paris
BEGIN:DAYLIGHT
TZOFFSETFROM:+0100
TZOFFSETTO:+0200
TZNAME:CEST
DTSTART:19700329T020000
RRULE:FREQ=YEARLY;BYMONTH=3;BYDAY=-1SU
END:DAYLIGHT
BEGIN:STANDARD
TZOFFSETFROM:+0200
TZOFFSETTO:+0100
TZNAME:CET
DTSTART:19701025T030000
RRULE:FREQ=YEARLY;BYMONTH=10;BYDAY=-1SU
END:STANDARD
END:VTIMEZONE
BEGIN:VEVENT
UID:2485226:Event:777538
DTSTAMP:20260420T013628Z
SUMMARY:massage chrysalis
DESCRIPTION:ATELIER MASSAGE CHRYSALIS\n \nL'association LAMIBONHEUR 
 vous propose pour le mois  un atelier le dimanche 27mai 2012\n Vous p
 ouvez diffuser l'information à vos amis ou venir avec quelqu’un (me
 rci de prévenir).\n Vous pouvez vous inscrire sur le site ou m'envo
 yer un mail pour confirmer  votre venue ou encore m’appeler au tél
 éphone directement pour tout renseignement si nécessaire. \n Il s'a
 git d'un atelier ou les personnes nouvelles peuvent découvrir les bie
 nfaits de ce massage en confiance et pour les habitués, pratiquer leu
 r savoir avec de nouvelles énergies car dans le toucher il n'y a jama
 is rien d'acquis.\n Cet atelier permet de découvrir, pratiquer et dé
 velopper la connaissance de cette méthode de massage.  Pour rappel, i
 l s'agit d'une méthode de massage relaxant avec une dimension  thér
 apeutique pour laquelle je suis diplômé. Il se pratique habillé ou 
 légèrement dévêtu pour le massage à l'huile et intègre la dimens
 ion corporelle, psychospirituelle et énergétique de la personne. Ce 
 massage a des origines osthéopathique et Amérindienne, mais c'est un
 e méthode française.\n Tenue conseillée : les vêtements servent de
  support au massage donc une tenue souple, un pantalon jogging par exe
 mple, et un polo à manches longues en coton sont préférables, ainsi
  qu’une paire de chaussettes aussi en coton ou en laine (pas de synt
 hétique).\n \nConfort : vous trouverez sur place des couvertures et 
 des coussins, mais apportez un petit matelas et une serviette de plage
  (longueur 1m80) pour ne pas tâcher le matelas.\n Repas sur le mode d
 u buffet en partage : Apportez un plat de votre choix que nous partage
 rons tous ensemble, vous trouverez sur place des boissons et le couver
 t.\n Coût de l’atelier : 15 € pour les frais\nCotisation 5€\nPh
 one : 06 61 91 28 00\n Je vous rappelle que cet atelier massage parti
 cipe à votre bien être mais ne remplace pas votre médecin traitant 
 ni ses prescriptions.\n \n\nPour plus d'information, aller sur https:
 //epanews.fr/events/massage-chrysalis-12
DTSTART;TZID=Europe/Paris:20120527T094500
DTEND;TZID=Europe/Paris:20120527T180000
CATEGORIES:83
LOCATION:toulon
WEBSITE:http://maps.google.com/?ie=UTF8&ll=43.13575,5.902498&spn=0.009
 098,0.01929&hnear=20+Rue+de+la+Martinique,+83200+Toulon,+Var,+Provence
 -Alpes-C%C3%B4te+d'Azur,+France&t=m&z=16
URL:http://maps.google.com/?ie=UTF8&ll=43.13575,5.902498&spn=0.009098,
 0.01929&hnear=20+Rue+de+la+Martinique,+83200+Toulon,+Var,+Provence-Alp
 es-C%C3%B4te+d'Azur,+France&t=m&z=16
CONTACT:06 61 91 28 00
ORGANIZER;CN="Patrick MALLET":https://epanews.fr/profile/mallet
ATTACH;FMTTYPE="image/jpeg":http://storage.ning.com/topology/rest/1.0/
 file/get/1662444831?profile=original
ATTENDEE;ROLE=REQ-PARTICIPANT;PARTSTAT=ACCEPTED;RSVP=TRUE;CN="Patrick 
 MALLET":https://epanews.fr/profile/mallet
END:VEVENT
END:VCALENDAR
