BEGIN:VCALENDAR
PRODID:NingEventWidget-v1
VERSION:2.0
METHOD:PUBLISH
BEGIN:VTIMEZONE
TZID:Europe/Paris
X-LIC-LOCATION:Europe/Paris
BEGIN:DAYLIGHT
TZOFFSETFROM:+0100
TZOFFSETTO:+0200
TZNAME:CEST
DTSTART:19700329T020000
RRULE:FREQ=YEARLY;BYMONTH=3;BYDAY=-1SU
END:DAYLIGHT
BEGIN:STANDARD
TZOFFSETFROM:+0200
TZOFFSETTO:+0100
TZNAME:CET
DTSTART:19701025T030000
RRULE:FREQ=YEARLY;BYMONTH=10;BYDAY=-1SU
END:STANDARD
END:VTIMEZONE
BEGIN:VEVENT
UID:2485226:Event:738139
DTSTAMP:20260423T173428Z
SUMMARY:massage chrysalis
DESCRIPTION:ATELIER MASSAGE CHRYSALIS\n \nL'association LAMIBONHEUR 
 vous propose pour le mois d'avril e un atelier le dimanche 22 avril 2
 012\n Vous pouvez diffuser l'information à vos amis ou venir avec que
 lqu’un (merci de prévenir).\n Vous pouvez vous inscrire sur le sit
 e ou m'envoyer un mail pour confirmer  votre venue ou encore m’app
 eler au téléphone directement pour tout renseignement si nécessaire
 . \n Il s'agit d'un atelier ou les personnes nouvelles peuvent décou
 vrir les bienfaits de ce massage en confiance et pour les habitués, p
 ratiquer leur savoir avec de nouvelles énergies car dans le toucher i
 l n'y a jamais rien d'acquis.\n Cet atelier permet de découvrir, prat
 iquer et développer la connaissance de cette méthode de massage.  Po
 ur rappel, il s'agit d'une méthode de massage relaxant avec une dimen
 sion  thérapeutique pour laquelle je suis diplômé. Il se pratique 
 habillé ou légèrement dévêtu pour le massage à l'huile et intèg
 re la dimension corporelle, psychospirituelle et énergétique de la p
 ersonne. Ce massage a des origines osthéopathique et Amérindienne, m
 ais c'est une méthode française.\n Tenue conseillée : les vêtement
 s servent de support au massage donc une tenue souple, un pantalon jog
 ging par exemple, et un polo à manches longues en coton sont préfér
 ables, ainsi qu’une paire de chaussettes aussi en coton ou en laine 
 (pas de synthétique).\n \nConfort : vous trouverez sur place des cou
 vertures et des coussins, mais apportez un petit matelas et une servie
 tte de plage (longueur 1m80) pour ne pas tâcher le matelas.\n Repas s
 ur le mode du buffet en partage : Apportez un plat de votre choix que 
 nous partagerons tous ensemble, vous trouverez sur place des boissons 
 et le couvert.\n Coût de l’atelier : 15 € pour les frais\nCotisat
 ion 5€\nPhone : 06 61 91 28 00\n Je vous rappelle que cet atelier m
 assage participe à votre bien être mais ne remplace pas votre médec
 in traitant ni ses prescriptions.\n \n\nPour plus d'information, alle
 r sur https://epanews.fr/events/massage-chrysalis-11
DTSTART;TZID=Europe/Paris:20120422T094500
DTEND;TZID=Europe/Paris:20120422T180000
CATEGORIES:83
LOCATION:toulon
WEBSITE:
URL:
CONTACT:06 61 91 28 00
ORGANIZER:Patrick MALLET / association Lamibonheur
ATTACH;FMTTYPE="image/jpeg":http://storage.ning.com/topology/rest/1.0/
 file/get/1662444831?profile=original
ATTENDEE;ROLE=REQ-PARTICIPANT;PARTSTAT=ACCEPTED;RSVP=TRUE;CN="VIRGINIE
  LE GALL":https://epanews.fr/profile/VirginieLeGall
ATTENDEE;ROLE=REQ-PARTICIPANT;PARTSTAT=ACCEPTED;RSVP=TRUE;CN="THERAPY 
 BIEN ETRE":https://epanews.fr/profile/cristalviolet
ATTENDEE;ROLE=REQ-PARTICIPANT;PARTSTAT=ACCEPTED;RSVP=TRUE;CN=Fredzen:h
 ttps://epanews.fr/profile/Fredzen
ATTENDEE;ROLE=REQ-PARTICIPANT;PARTSTAT=ACCEPTED;RSVP=TRUE;CN=18cathy:h
 ttps://epanews.fr/profile/18cathy
ATTENDEE;ROLE=REQ-PARTICIPANT;PARTSTAT=ACCEPTED;RSVP=TRUE;CN="Patrick 
 MALLET":https://epanews.fr/profile/mallet
END:VEVENT
END:VCALENDAR
