BEGIN:VCALENDAR
PRODID:NingEventWidget-v1
VERSION:2.0
METHOD:PUBLISH
BEGIN:VTIMEZONE
TZID:Europe/Paris
X-LIC-LOCATION:Europe/Paris
BEGIN:DAYLIGHT
TZOFFSETFROM:+0100
TZOFFSETTO:+0200
TZNAME:CEST
DTSTART:19700329T020000
RRULE:FREQ=YEARLY;BYMONTH=3;BYDAY=-1SU
END:DAYLIGHT
BEGIN:STANDARD
TZOFFSETFROM:+0200
TZOFFSETTO:+0100
TZNAME:CET
DTSTART:19701025T030000
RRULE:FREQ=YEARLY;BYMONTH=10;BYDAY=-1SU
END:STANDARD
END:VTIMEZONE
BEGIN:VEVENT
UID:2485226:Event:158100
DTSTAMP:20260422T000254Z
SUMMARY:Massage Chrysalis 
DESCRIPTION:Bonjour à tous\nJe vous propose pour le mois de décembre
  un atelier massage CHRYSALISle dimanche 12décembre 2010\n\nATTENTION
  JE SERAI ABSENT DU 29/11 au 07/12 pour aller en Egypte\n\nvous pouvez
  diffuser l'info à vos amis.\n\nIl s'agit d'un atelier ou les personn
 es nouvelles peuvent découvrir les bienfaits de ce massage en confian
 ce et pour les habitués pratiquer leur savoir avec de nouvelles éner
 gies car dans le toucher il n'y a jamais rien d'acquit.\n\nCet atelier
  permet de découvrir, pratiquer et de développer la connaissance de 
 cette methode de massage.\n\nPour rappel il s'agit d'une méthode de m
 assage relaxant et thérapeutique, qui se pratique habillé ou légèr
 ement dévetu pour le massage à l'huile, qui intègre la dimension co
 rporellle, spychospirituelle et énergétique de la personne. ce massa
 ge a des origines osthéopathique et Amèrindienne mais c'est une mét
 hode francaise.\n\nTenue conseillée: Les vêtements servent de suppor
 t au massage donc une tenue souple de jogging pantalon+ un polo à man
 che longue en coton est préférable.\n\nRepas : Apporter un plat de v
 otre choix que nous partagerons tous ensemble vous trouverez sur place
  des boissons et le couvert.\n\nConfort : Apportez un tapis mousse ou 
 une serviette de plage ainsi qu'un coussin.\n\nPrix 10 EUROS pour les 
 frais attention à partir de janvier le prix passera à 15 euros.\n\nN
 ombre de place limité à 12 participants\n\nPour rappel cette méthod
 e de massage participe au bien être du massé mais ne remplace pas le
 s prescriptions de votre médecin traitant.\n\nA+\nPatrick\n\nPour plu
 s d'information, aller sur https://epanews.fr/events/massage-chrysalis
 -1
DTSTART;TZID=Europe/Paris:20101212T094500
DTEND;TZID=Europe/Paris:20101212T170000
CATEGORIES:83
LOCATION:CHEZ MOI A TOULON   83
WEBSITE:
URL:
CONTACT:06 61 91 28 00
ORGANIZER;CN="Patrick MALLET":https://epanews.fr/profile/mallet
ATTACH;FMTTYPE="image/jpeg":http://storage.ning.com/topology/rest/1.0/
 file/get/1662361820?profile=original
ATTENDEE;ROLE=REQ-PARTICIPANT;PARTSTAT=ACCEPTED;RSVP=TRUE;CN=danielstc
 yrsurmer:https://epanews.fr/profile/danielstcyrsurmer
ATTENDEE;ROLE=REQ-PARTICIPANT;PARTSTAT=ACCEPTED;RSVP=TRUE;CN=Presence:
 https://epanews.fr/profile/Presence
ATTENDEE;ROLE=REQ-PARTICIPANT;PARTSTAT=ACCEPTED;RSVP=TRUE;CN=maillard:
 https://epanews.fr/profile/maillard
ATTENDEE;ROLE=REQ-PARTICIPANT;PARTSTAT=ACCEPTED;RSVP=TRUE;CN="bonnette
  jocelyne":https://epanews.fr/profile/bonnettejocelyne
ATTENDEE;ROLE=REQ-PARTICIPANT;PARTSTAT=ACCEPTED;RSVP=TRUE;CN=papillon:
 https://epanews.fr/profile/papillon
ATTENDEE;ROLE=REQ-PARTICIPANT;PARTSTAT=ACCEPTED;RSVP=TRUE;CN="caradonn
 a serge":https://epanews.fr/profile/caradonnaserge
ATTENDEE;ROLE=REQ-PARTICIPANT;PARTSTAT=ACCEPTED;RSVP=TRUE;CN=PAMBZH:ht
 tps://epanews.fr/profile/COUDRAYCODBESSIN
ATTENDEE;ROLE=REQ-PARTICIPANT;PARTSTAT=ACCEPTED;RSVP=TRUE;CN=18cathy:h
 ttps://epanews.fr/profile/18cathy
ATTENDEE;ROLE=REQ-PARTICIPANT;PARTSTAT=ACCEPTED;RSVP=TRUE;CN="Patrick 
 MALLET":https://epanews.fr/profile/mallet
END:VEVENT
END:VCALENDAR
