BEGIN:VCALENDAR
PRODID:NingEventWidget-v1
VERSION:2.0
METHOD:PUBLISH
BEGIN:VTIMEZONE
TZID:Europe/Paris
X-LIC-LOCATION:Europe/Paris
BEGIN:DAYLIGHT
TZOFFSETFROM:+0100
TZOFFSETTO:+0200
TZNAME:CEST
DTSTART:19700329T020000
RRULE:FREQ=YEARLY;BYMONTH=3;BYDAY=-1SU
END:DAYLIGHT
BEGIN:STANDARD
TZOFFSETFROM:+0200
TZOFFSETTO:+0100
TZNAME:CET
DTSTART:19701025T030000
RRULE:FREQ=YEARLY;BYMONTH=10;BYDAY=-1SU
END:STANDARD
END:VTIMEZONE
BEGIN:VEVENT
UID:2485226:Event:40577
DTSTAMP:20260420T072220Z
SUMMARY:Massage ayurvédique à l'Ascension: reste 2 places
DESCRIPTION:Le massage Abhyanga est le massage traditionnel indien:\n.
  - il évacue les toxines,\n. - recharge le corps en énergie vitale (
 prana),\n. - rééquilibre les tempéraments ayurvédiques (doshas),\n
 . - soulage les tensions,\n. - stimule les tissus corporels (dhatus), 
 par massage profond.\nAu cours du week end de l'Ascension du 13 au 16 
 mai, vous participerez à 8 ateliers de massage\nayurvédique.\nLes at
 eliers seront animés par Jean-Michel Gallet\nJean-Michel est praticie
 n en massage bien-être, membre de la Fédération française de Massa
 ge Bien-Etre.\nFormé en particulier au massage sensitif et au massage
  ayurvédique, il exerce en Région parisienne.\nHébergements sur pla
 ce à prix modiques.\n\nProgramme détaillé sur le stage et l'héberg
 ement sur demande auprès de\nJean-Michel 06 74 64 03 16 -\n01 72 58 3
 9 56\ncontact@afleurdepeau.mobi\nhttp://www.afleurdepeau.mobi\n\nPour 
 plus d'information, aller sur https://epanews.fr/events/massage-ayurve
 dique-a
DTSTART;TZID=Europe/Paris:20100513T090000
DTEND;TZID=Europe/Paris:20100516T170000
CATEGORIES:tous
LOCATION:ferme de mercier
WEBSITE:http://www.afleurdepeau.mobi
URL:http://www.afleurdepeau.mobi
CONTACT:06 74 64 03 16
ORGANIZER;CN="Jean-Michel Gallet":https://epanews.fr/profile/Gallet
ATTACH;FMTTYPE="image/jpeg":http://storage.ning.com/topology/rest/1.0/
 file/get/1662291587?profile=original
ATTENDEE;ROLE=REQ-PARTICIPANT;PARTSTAT=ACCEPTED;RSVP=TRUE;CN="Jean-Mic
 hel Gallet":https://epanews.fr/profile/Gallet
END:VEVENT
END:VCALENDAR
