BEGIN:VCALENDAR
PRODID:NingEventWidget-v1
VERSION:2.0
METHOD:PUBLISH
BEGIN:VTIMEZONE
TZID:Europe/Paris
X-LIC-LOCATION:Europe/Paris
BEGIN:DAYLIGHT
TZOFFSETFROM:+0100
TZOFFSETTO:+0200
TZNAME:CEST
DTSTART:19700329T020000
RRULE:FREQ=YEARLY;BYMONTH=3;BYDAY=-1SU
END:DAYLIGHT
BEGIN:STANDARD
TZOFFSETFROM:+0200
TZOFFSETTO:+0100
TZNAME:CET
DTSTART:19701025T030000
RRULE:FREQ=YEARLY;BYMONTH=10;BYDAY=-1SU
END:STANDARD
END:VTIMEZONE
BEGIN:VEVENT
UID:2485226:Event:939354
DTSTAMP:20260423T122829Z
SUMMARY:Massage Ayurvédique
DESCRIPTION:du 7 au 9 Juin 2013\nCette formation s'étale sur trois jo
 urs.\nVous apprendrez un protocole entier de massage Ayurvédique, des
  techniques pour vous centrer avant le massage, des exercices pour fai
 re circuler l'Energie.  Découverte du Nada yoga le matin.\nPartez à
  la découverte de la philosophie Védique, basé sur le respect et l'
 Amour envers toute source de vie.\n7 juin début des cours à 14H Fin 
 des cours le 9 juin à 13H. Prévoir une tenue souple et confortable, 
 des serviettes, paréos, de l'huile et votre bonne humeur.\nPossibilit
 é d'hébergement sur place\n\nPour plus d'information, aller sur http
 s://epanews.fr/events/massage-ayurv-dique
DTSTART;TZID=Europe/Paris:20130607T140000
DTEND;TZID=Europe/Paris:20130609T130000
CATEGORIES:62
LOCATION:Boulogne sur mer
WEBSITE:
URL:
CONTACT:0659302067
ORGANIZER;CN="la'akea":https://epanews.fr/profile/laakea
ATTACH;FMTTYPE="image/jpeg":http://storage.ning.com/topology/rest/1.0/
 file/get/1662663244?profile=original
ATTENDEE;ROLE=REQ-PARTICIPANT;PARTSTAT=ACCEPTED;RSVP=TRUE;CN="la'akea"
 :https://epanews.fr/profile/laakea
END:VEVENT
END:VCALENDAR
