BEGIN:VCALENDAR
PRODID:NingEventWidget-v1
VERSION:2.0
METHOD:PUBLISH
BEGIN:VTIMEZONE
TZID:Europe/Paris
X-LIC-LOCATION:Europe/Paris
BEGIN:DAYLIGHT
TZOFFSETFROM:+0100
TZOFFSETTO:+0200
TZNAME:CEST
DTSTART:19700329T020000
RRULE:FREQ=YEARLY;BYMONTH=3;BYDAY=-1SU
END:DAYLIGHT
BEGIN:STANDARD
TZOFFSETFROM:+0200
TZOFFSETTO:+0100
TZNAME:CET
DTSTART:19701025T030000
RRULE:FREQ=YEARLY;BYMONTH=10;BYDAY=-1SU
END:STANDARD
END:VTIMEZONE
BEGIN:VEVENT
UID:2485226:Event:501300
DTSTAMP:20260423T120808Z
SUMMARY:massage ayurvédique: initiation et perfectionnement
DESCRIPTION:Du 29 octobre au 1 novembre 2011.\nA Castillonès entre Be
 rgerac et Villeneuve sur Lot.\nStage de 4 jours animé par professionn
 el membre de la Fédération française de massages bien-être.\nAu co
 urs de ces 4 journées, vous participerez à 8 ateliers de massage ayu
 rvédique. .\n- 1er atelier consacré à la position du masseur, la pr
 ise de contact, le huilage,le massage du dos .\n- le contenu des autre
 s ateliers sera déterminé par le groupe: bras, mains, jambes, pieds,
  cou, fessiers, buste, ventre, visage, crâne.\nPédagogie:\n. démons
 tration/application.\n. Rotation aux tables au cours des exercices.\n.
  Respect des choix du massé.\n \n5ème stage du genre.  Ouvert à t
 ous: débutants et confirmés.\nTarifs stage: 150 euros\nHébergement:
  5 à 12 euros la nuit\nNourriture autogérée.\nPour plus d'informati
 ons, me contacter:\nJean-Michel Gallet\n06 74 64 03 16\ncontact@afleur
 depeau.mobi\nwww.afleurdepeau.mobi\n\nPour plus d'information, aller s
 ur https://epanews.fr/events/massage-ayurv-dique-initiation-et-perfect
 ionnement-1
DTSTART;TZID=Europe/Paris:20111029T100000
DTEND;TZID=Europe/Paris:20111101T170000
CATEGORIES:tous
LOCATION:Bergerac
WEBSITE:http://www.afleurdepeau.mobi
URL:http://www.afleurdepeau.mobi
CONTACT:0674640316
ORGANIZER;CN="Jean-Michel Gallet":https://epanews.fr/profile/Gallet
ATTACH;FMTTYPE="image/jpeg":http://storage.ning.com/topology/rest/1.0/
 file/get/1662451789?profile=original
ATTENDEE;ROLE=REQ-PARTICIPANT;PARTSTAT=ACCEPTED;RSVP=TRUE;CN="Jean-Mic
 hel Gallet":https://epanews.fr/profile/Gallet
END:VEVENT
END:VCALENDAR
