BEGIN:VCALENDAR
PRODID:NingEventWidget-v1
VERSION:2.0
METHOD:PUBLISH
BEGIN:VTIMEZONE
TZID:Europe/Paris
X-LIC-LOCATION:Europe/Paris
BEGIN:DAYLIGHT
TZOFFSETFROM:+0100
TZOFFSETTO:+0200
TZNAME:CEST
DTSTART:19700329T020000
RRULE:FREQ=YEARLY;BYMONTH=3;BYDAY=-1SU
END:DAYLIGHT
BEGIN:STANDARD
TZOFFSETFROM:+0200
TZOFFSETTO:+0100
TZNAME:CET
DTSTART:19701025T030000
RRULE:FREQ=YEARLY;BYMONTH=10;BYDAY=-1SU
END:STANDARD
END:VTIMEZONE
BEGIN:VEVENT
UID:2485226:Event:1370625
DTSTAMP:20260421T213627Z
SUMMARY:Massage ayurvÃ©dique de tout le corps Ã  la poudre - Udvartana
DESCRIPTION:En Inde du Nord Udvartana est pratiquÃ© rÃ©guliÃ¨rement po
 ur maintenir santÃ© et bien-Ãªtre au quotidien.\nA la place de lâ€™hui
 le on utilise une pÃ¢te constituÃ©e dâ€™herbes ayurvÃ©diques (Ã  grand
  pouvoir de drainage) dans le but de stimuler le systÃ¨me lymphatique.
  Ce massage de bien-Ãªtre est trÃ¨s bÃ©nÃ©fique pour les personnes de 
 forte constitution (Kapha), pour amÃ©liorer la mobilitÃ© des articulat
 ions et tout dÃ©sÃ©quilibre dÃ»s Ã  lâ€™accumulation de la graisse. Ud
 vartana favorise aussi le rajeunissement de la peau, la rendant plus b
 elle et plus soyeuse Ã  chaque application.\n\nAu Programme:Â \n\nCett
 e technique ancestrale fait partie des 18 massages ayurvÃ©diques les p
 lus pratiquÃ©s encore aujourdâ€™hui en Inde du Nord.\n\nAPPORTS ThEORI
 QUESÂ :\n-Notions de base des 3 types de constitutions psycho-morpho-p
 sychologiques selon lâ€™AyurvÃ©da (les dosha : Vata, Pit- ta et Kapha)
  insistance sur le corps physique et la peau\n-PrÃ©paration et utilisa
 tion de la pÃ¢te-Indications et contre-indications de cette technique 
 de massage.\n\nEN PRATIQUEÂ :\n-Hatha Yoga (adaptÃ© Ã  tous les niveau
 x) et/ou mÃ©ditation de 9h Ã  10h30-Apprentissage du protocole en binÃ
 ´me-Pause dÃ©jeunÃ©-Temps dÃ©diÃ© Ã  la thÃ©orie-Retour Ã  lâ€™apprent
 issage du protocole en binÃ´me\nCette technique de massage peut Ãªtre 
 trÃ¨s bien pratiquÃ©e dans le milieu de lâ€™esthÃ©tique. Cette formati
 on peut Ãªtre choisie dans le cadre dâ€™un parcours Ã  la carte de min
 imum 200h pour devenir praticiens de massage de bien-Ãªtre ayurvÃ©diqu
 e.\n\nPour plus d'information, aller sur https://epanews.fr/events/mas
 sage-ayurv-dique-de-tout-le-corps-la-poudre-udvartana
DTSTART;TZID=Europe/Paris:20130613T000000
DTEND;TZID=Europe/Paris:20130614T235900
CATEGORIES:75
LOCATION:Paris 12e
WEBSITE:http://www.yogsansara.com/udvartana-massage-ayurvedique-a-la-p
 ate-r19556.html
URL:http://www.yogsansara.com/udvartana-massage-ayurvedique-a-la-pate-
 r19556.html
CONTACT:01 43 41 99 64
ORGANIZER;CN=yogsansara:https://epanews.fr/profile/yogsansara
ATTACH;FMTTYPE="image/jpeg":
ATTENDEE;ROLE=REQ-PARTICIPANT;PARTSTAT=ACCEPTED;RSVP=TRUE;CN=yogsansar
 a:https://epanews.fr/profile/yogsansara
END:VEVENT
END:VCALENDAR
