BEGIN:VCALENDAR
PRODID:NingEventWidget-v1
VERSION:2.0
METHOD:PUBLISH
BEGIN:VTIMEZONE
TZID:Europe/Paris
X-LIC-LOCATION:Europe/Paris
BEGIN:DAYLIGHT
TZOFFSETFROM:+0100
TZOFFSETTO:+0200
TZNAME:CEST
DTSTART:19700329T020000
RRULE:FREQ=YEARLY;BYMONTH=3;BYDAY=-1SU
END:DAYLIGHT
BEGIN:STANDARD
TZOFFSETFROM:+0200
TZOFFSETTO:+0100
TZNAME:CET
DTSTART:19701025T030000
RRULE:FREQ=YEARLY;BYMONTH=10;BYDAY=-1SU
END:STANDARD
END:VTIMEZONE
BEGIN:VEVENT
UID:2485226:Event:250462
DTSTAMP:20260425T201013Z
SUMMARY:MASSAGE AU SOLEIL esplanade des invalides
DESCRIPTION:Bonjour !\nDimanche 15 mai 2011 je propose un Ã©vÃ©nement 
 MASSAGE AU SOLEIL.\nLe principeÂ : une rÃ©union conviviale sur lâ€™her
 be de lâ€™esplanade des Invalides\n(Ã  cÃ´tÃ© des pÃ©tanques de COMPAD
 RE)\nOn apporte de quoi grignoter et se dÃ©saltÃ©rer. On peut rencontr
 er des gens aimant masser et Ãªtre massÃ©\nPour rendre le moment encor
 e plus agrÃ©able voilÃ  ce qui sera possible Ã©tant donnÃ© que nous se
 rons Ã  lâ€™extÃ©rieur et en public.\nA) Massage HabillÃ©.\nVenez avec
  une tenue souple et confortable.\nDes vÃªtement prÃªt du corps sont c
 onseillÃ©s car moins il y a de plis plus câ€™est agrÃ©able.\nMais pour
  des mouvements de type SHIATSU ou LOMI LOMI ou bercement, nâ€™importe
  quels vÃªtements souples et lÃ©gers seront bon.\nRelaxation corÃ©enne
  et thaÃ¯landais sont de toutes facons pratiquÃ©s habillÃ©.\nB)Massage
  sur peau.\nMains. Visage. Crane.\nFacile Ã  faire , mÃªme assis , deb
 out ou couchÃ©Â !\nMassage des piedsÂ :\nPour cela pensez aux lingette
 s nettoyantes, venez en tong !\nSi certains le veulent peut Ãªtre sera
 -t-il possible de faire le dos.\nÂ \nC)Massage sur chaise.\nJe verrais
  sâ€™il peut y avoir une ou deux chaises de massage mais je ne peux ri
 en promettre.\nÂ \nIl y aura des gens sachant masser et des gens ne sa
 chant pas masser.\nDonc ce sera aussi lâ€™occasion dâ€™apprendre et de
  dÃ©velopper notre rÃ©seaux et Ã©changer nos cartes de visite. Nous po
 urrons faire des Ã©changesÂ !\nNous pourrons partager notre passion po
 ur le monde du massageÂ !\nUn peu comme les masseurs de la rue mouffet
 ard.\nÂ \nCâ€™est un Ã©vÃ©nement GRATUIT mais ce sera sympa de donner 
 un petit cadeau si vous vous faites masser et que vous ne pouvez pas Ã
 ©changer, une maniÃ¨re de dire que vous avez apprÃ©ciÃ© avec quelques 
 piÃ¨ces ou autre choseÂ !\nJe pense que notre monde Ã  besoin de chale
 ur humaine alors rendez vous le 15 mai 2011.\nÂ \nRENDEZ VOUS A PARTIR
  DE 13 H AU COIN DE LA RUE DE Lâ€™UNIVERSITE ET DE Lâ€™AVENUE DU MAREC
 HAL GALLIENI\nJâ€™apporterai des tapis de sol et des nattes de plage m
 ais je demande Ã  tout ceux qui le peuvent dâ€™en faire autantÂ :Â  ta
 pis de yoga, nattes , draps de plage etcâ€¦ chaises pliantes etc....\n
 Â \nA bientÃ´t.Â Â Â Â Â Â Â  JACQUES\n\n\nPour plus d'information, al
 ler sur https://epanews.fr/events/massage-au-soleil-esplanade
DTSTART;TZID=Europe/Paris:20110515T130000
DTEND;TZID=Europe/Paris:20110515T200000
CATEGORIES:75007
LOCATION:PARIS
WEBSITE:http://<iframe width=\"425\" height=\"350\" frameborder=\"0\" 
 scrolling=\"no\" marginheight=\"0\" marginwidth=\"0\" src=\"http://map
 s.google.com/?ie=UTF8&amp;ll=48.861044,2.313238&amp;spn=0.002774,0.009
 645&amp;z=17&amp;layer=c&amp;cbll=48.861044,2.313238&amp;panoid=yclTGi
 KOin3z_fC8krGHig&amp;cbp=12,226.06,,0,0&amp;source=embed&amp;output=sv
 embed\"></iframe><br /><small><a href=\"http://maps.google.com/?ie=UTF
 8&amp;ll=48.861044,2.313238&amp;spn=0.002774,0.009645&amp;z=17&amp;lay
 er=c&amp;cbll=48.861044,2.313238&amp;pan
URL:http://<iframe width=\"425\" height=\"350\" frameborder=\"0\" scro
 lling=\"no\" marginheight=\"0\" marginwidth=\"0\" src=\"http://maps.go
 ogle.com/?ie=UTF8&amp;ll=48.861044,2.313238&amp;spn=0.002774,0.009645&
 amp;z=17&amp;layer=c&amp;cbll=48.861044,2.313238&amp;panoid=yclTGiKOin
 3z_fC8krGHig&amp;cbp=12,226.06,,0,0&amp;source=embed&amp;output=svembe
 d\"></iframe><br /><small><a href=\"http://maps.google.com/?ie=UTF8&am
 p;ll=48.861044,2.313238&amp;spn=0.002774,0.009645&amp;z=17&amp;layer=c
 &amp;cbll=48.861044,2.313238&amp;pan
CONTACT:
ORGANIZER;CN="Jack Massage 75":https://epanews.fr/profile/Jackpalance7
 5
ATTACH;FMTTYPE="image/jpeg":
ATTENDEE;ROLE=REQ-PARTICIPANT;PARTSTAT=ACCEPTED;RSVP=TRUE;CN="Patricia
 .L":https://epanews.fr/profile/PatriciaL
ATTENDEE;ROLE=REQ-PARTICIPANT;PARTSTAT=ACCEPTED;RSVP=TRUE;CN="Evelyne 
 F":https://epanews.fr/profile/FilocheEvelyne
ATTENDEE;ROLE=REQ-PARTICIPANT;PARTSTAT=ACCEPTED;RSVP=TRUE;CN="Jack Mas
 sage 75":https://epanews.fr/profile/Jackpalance75
ATTENDEE;ROLE=REQ-PARTICIPANT;PARTSTAT=TENTATIVE;RSVP=TRUE;CN="papillo
 n aurore":https://epanews.fr/profile/LECHARLESVeronique
END:VEVENT
END:VCALENDAR
