BEGIN:VCALENDAR
PRODID:NingEventWidget-v1
VERSION:2.0
METHOD:PUBLISH
BEGIN:VTIMEZONE
TZID:Europe/Paris
X-LIC-LOCATION:Europe/Paris
BEGIN:DAYLIGHT
TZOFFSETFROM:+0100
TZOFFSETTO:+0200
TZNAME:CEST
DTSTART:19700329T020000
RRULE:FREQ=YEARLY;BYMONTH=3;BYDAY=-1SU
END:DAYLIGHT
BEGIN:STANDARD
TZOFFSETFROM:+0200
TZOFFSETTO:+0100
TZNAME:CET
DTSTART:19701025T030000
RRULE:FREQ=YEARLY;BYMONTH=10;BYDAY=-1SU
END:STANDARD
END:VTIMEZONE
BEGIN:VEVENT
UID:2485226:Event:8634
DTSTAMP:20260419T181719Z
SUMMARY:Masculin/Féminin : vivre en harmonie.
DESCRIPTION:du vendredi 18 septembre 2009 au soir au dimanche 20 septe
 mbre 2009 vers 17hs à Chandelas en Ardéche.\n\nNous vous proposons d
 e partager, créer, d’appréhender pour chacun, un nouveau chemin de
  compréhension entre hommes et femmes. Dans une alternance de groupes
  de paroles et danses sur le théme choisi, notre idée de base est es
 sentiellement d’échanger sur l’évolution de la relation homme/Fe
 mme.\nDans un cadre reposant, naturel et tranquille, nous proposons un
  centre d’accueil de groupes, où nous aurons une totale autonomie. 
 Les repas et l’entretien sont assurés par le groupe.\n\nCe week end
  associant Danse et groupes de parole est le quatriéme que nous propo
 sons. Notre désir, votre plaisir, est simplement de vivre dans la pri
 se de conscience de ce qui est là, dans la présence à l’instant, 
 dans un moment de partage. Néanmoins, chaque groupe ou individu est i
 nvité à faire des propositions à l’ensemble des participants, à 
 tout moment pendant et avant le week end.\nLes temps consacrés à cha
 que activité (danse et groupe de paroles) sont clairement séparés.\
 n\nPrix coutant (maxi: 130 €) Logement, Repas et Vivencias compris, 
 dont 40 € à l’inscription. Renseignements et inscriptions : patri
 cethery38@orange.fr\n\nPour plus d'information, aller sur https://epan
 ews.fr/events/masculinfeminin-vivre-en
DTSTART;TZID=Europe/Paris:20090918T200000
DTEND;TZID=Europe/Paris:20090920T160000
CATEGORIES:07
LOCATION:Partage d'expérience
WEBSITE:
URL:
CONTACT:0681703118
ORGANIZER;CN="Patrice Théry":https://epanews.fr/profile/PatriceThery
ATTACH;FMTTYPE="image/jpeg":http://storage.ning.com/topology/rest/1.0/
 file/get/1662274979?profile=original
ATTENDEE;ROLE=REQ-PARTICIPANT;PARTSTAT=ACCEPTED;RSVP=TRUE;CN="Mike Fra
 nceschi":https://epanews.fr/profile/MikeFranceschi
ATTENDEE;ROLE=REQ-PARTICIPANT;PARTSTAT=ACCEPTED;RSVP=TRUE;CN="Patrice 
 Théry":https://epanews.fr/profile/PatriceThery
END:VEVENT
END:VCALENDAR
