BEGIN:VCALENDAR
PRODID:NingEventWidget-v1
VERSION:2.0
METHOD:PUBLISH
BEGIN:VTIMEZONE
TZID:Europe/Paris
X-LIC-LOCATION:Europe/Paris
BEGIN:DAYLIGHT
TZOFFSETFROM:+0100
TZOFFSETTO:+0200
TZNAME:CEST
DTSTART:19700329T020000
RRULE:FREQ=YEARLY;BYMONTH=3;BYDAY=-1SU
END:DAYLIGHT
BEGIN:STANDARD
TZOFFSETFROM:+0200
TZOFFSETTO:+0100
TZNAME:CET
DTSTART:19701025T030000
RRULE:FREQ=YEARLY;BYMONTH=10;BYDAY=-1SU
END:STANDARD
END:VTIMEZONE
BEGIN:VEVENT
UID:2485226:Event:58347
DTSTAMP:20260419T224454Z
SUMMARY:MARSEILLE échange de massage 13006
DESCRIPTION:Je propose échange de massage pour personnes ayant une bo
 nne pratique du massage.\nLieu : MARSEILLE 6ème.\n\nHoraire 14h à 17
 h\n\nParticipation 10 euros personnes comprenant salle, tables de mass
 age, huile, boissons, collation, ....\n\nAtelier maintenu à partir de
  4 inscriptions confirmées.\n\nD'autres jours à d'autres horaires po
 urront-être programmés en fonction des souhaits.\n\nMANIFESTEZ VOTRE
  SOUHAIT DE PARTICIPER À CET ÉCHANGE MASSAGE SUR ÉPANEWS\nMAIS CONF
 IRMATION d'INSCRIPTION IMPÉRATIVE au 06 11 89 20 34\n\nPour plus d'in
 formation, aller sur https://epanews.fr/events/marseille-echange-de-ma
 ssage
DTSTART;TZID=Europe/Paris:20100508T140000
DTEND;TZID=Europe/Paris:20100508T170000
CATEGORIES:13006
LOCATION:CENTRE DU MONT 13006 M° Notre Dame du Mont
WEBSITE:http://www.les13portes.com
URL:http://www.les13portes.com
CONTACT:0611892034
ORGANIZER;CN=VERGER:https://epanews.fr/profile/VERGER
ATTACH;FMTTYPE="image/jpeg":http://storage.ning.com/topology/rest/1.0/
 file/get/1662302075?profile=original
ATTENDEE;ROLE=REQ-PARTICIPANT;PARTSTAT=ACCEPTED;RSVP=TRUE;CN="Jean-Pau
 l Biberian":https://epanews.fr/profile/JeanPaulBiberian
ATTENDEE;ROLE=REQ-PARTICIPANT;PARTSTAT=ACCEPTED;RSVP=TRUE;CN=Ambroise:
 https://epanews.fr/profile/Ambroise
ATTENDEE;ROLE=REQ-PARTICIPANT;PARTSTAT=ACCEPTED;RSVP=TRUE;CN=VERGER:ht
 tps://epanews.fr/profile/VERGER
ATTENDEE;ROLE=REQ-PARTICIPANT;PARTSTAT=TENTATIVE;RSVP=TRUE;CN="CARRON 
 Eric":https://epanews.fr/profile/CARRON
END:VEVENT
END:VCALENDAR
