BEGIN:VCALENDAR
PRODID:NingEventWidget-v1
VERSION:2.0
METHOD:PUBLISH
BEGIN:VTIMEZONE
TZID:Europe/Paris
X-LIC-LOCATION:Europe/Paris
BEGIN:DAYLIGHT
TZOFFSETFROM:+0100
TZOFFSETTO:+0200
TZNAME:CEST
DTSTART:19700329T020000
RRULE:FREQ=YEARLY;BYMONTH=3;BYDAY=-1SU
END:DAYLIGHT
BEGIN:STANDARD
TZOFFSETFROM:+0200
TZOFFSETTO:+0100
TZNAME:CET
DTSTART:19701025T030000
RRULE:FREQ=YEARLY;BYMONTH=10;BYDAY=-1SU
END:STANDARD
END:VTIMEZONE
BEGIN:VEVENT
UID:2485226:Event:750937
DTSTAMP:20260424T044345Z
SUMMARY:MAROC : Essaouira entre dÃ©sert et ocÃ©an
DESCRIPTION:Voyage de tourisme Ã  dimension humaine, Â ressourcement e
 t cheminement personnel.\nMarcher entre dÃ©sert et ocÃ©an : retrouver 
 la source de votre humanitÃ©, dÃ©passez vos croyances limitantes, osez
  votre vos aspirations les plus profondes ... reprenez votre vie en ma
 in !\nNotre petit groupe (15 personnes max.) dÃ©couvrira les populatio
 ns locales en allant Ã  leur rencontre chaque jour et se rÃ©unira rÃ©g
 uliÃ¨rement en 1/2 journÃ©es pour avancer son son propre chemin d'Ã©vo
 lution. DiffÃ©rents ateliers seront proposÃ©s tout au long de notre sÃ
 ©jour. Loi d'attraction, abondance et mieux-Ãªtre sont au programme !\
 nPour nous y aider : rÃ©veil corporel, marche consciente et mÃ©ditatio
 n, constellations familiales, EFT, acupressure (PBA), communication bi
 enveillante.\nEt tous les jours un apÃ©ritif hypnotique sera proposÃ© 
 !\nAccessible Ã  chacun, Ãªtre 'bon marcheur' n'est pas nÃ©cessaire, d
 es dromadaires nous aideront le cas Ã©chÃ©ant.\nDÃ©parts de Paris Orly
 .\nToutes les infos ici\n\nPour plus d'information, aller sur https://
 epanews.fr/events/maroc-essaouira-entre-d-sert-et-oc-an
DTSTART;TZID=Europe/Paris:20121027T000000
DTEND;TZID=Europe/Paris:20121103T000000
CATEGORIES:tous
LOCATION:MAROC
WEBSITE:http://www.lefildariane.eu/
URL:http://www.lefildariane.eu/
CONTACT:02 38 560 560  ou  06 18 86 02 10
ORGANIZER;CN="HervÃ© Robbes":https://epanews.fr/profile/HerveRobbes
ATTACH;FMTTYPE="image/jpeg":http://storage.ning.com/topology/rest/1.0/
 file/get/1662586063?profile=original
ATTENDEE;ROLE=REQ-PARTICIPANT;PARTSTAT=ACCEPTED;RSVP=TRUE;CN="HervÃ© R
 obbes":https://epanews.fr/profile/HerveRobbes
END:VEVENT
END:VCALENDAR
