BEGIN:VCALENDAR
PRODID:NingEventWidget-v1
VERSION:2.0
METHOD:PUBLISH
BEGIN:VTIMEZONE
TZID:Europe/Paris
X-LIC-LOCATION:Europe/Paris
BEGIN:DAYLIGHT
TZOFFSETFROM:+0100
TZOFFSETTO:+0200
TZNAME:CEST
DTSTART:19700329T020000
RRULE:FREQ=YEARLY;BYMONTH=3;BYDAY=-1SU
END:DAYLIGHT
BEGIN:STANDARD
TZOFFSETFROM:+0200
TZOFFSETTO:+0100
TZNAME:CET
DTSTART:19701025T030000
RRULE:FREQ=YEARLY;BYMONTH=10;BYDAY=-1SU
END:STANDARD
END:VTIMEZONE
BEGIN:VEVENT
UID:2485226:Event:1334697
DTSTAMP:20260421T155132Z
SUMMARY:marie madeleine
DESCRIPTION: ; ; ; ; ; ; ; ; ; ; ; ; ; ; ; ;\nLE JEUDI
  9 MAI à 20h00\nMARIE MADELEINE et la tombe perdue de Jésus parChri
 stian Doumergue\nParticipation : 5 Euros\n\nPour plus d'information,
  aller sur https://epanews.fr/events/marie-madeleine
DTSTART;TZID=Europe/Paris:20130509T200000
DTEND;TZID=Europe/Paris:20130509T220000
CATEGORIES:11
LOCATION:11
WEBSITE:http://www.debowska.fr
URL:http://www.debowska.fr
CONTACT:
ORGANIZER:DEBOWSKA PRODUCTIONS
ATTACH;FMTTYPE="image/jpeg":
ATTENDEE;ROLE=REQ-PARTICIPANT;PARTSTAT=ACCEPTED;RSVP=TRUE;CN=MIR:https
 ://epanews.fr/profile/MIR282
END:VEVENT
END:VCALENDAR
