BEGIN:VCALENDAR
PRODID:NingEventWidget-v1
VERSION:2.0
METHOD:PUBLISH
BEGIN:VTIMEZONE
TZID:Europe/Paris
X-LIC-LOCATION:Europe/Paris
BEGIN:DAYLIGHT
TZOFFSETFROM:+0100
TZOFFSETTO:+0200
TZNAME:CEST
DTSTART:19700329T020000
RRULE:FREQ=YEARLY;BYMONTH=3;BYDAY=-1SU
END:DAYLIGHT
BEGIN:STANDARD
TZOFFSETFROM:+0200
TZOFFSETTO:+0100
TZNAME:CET
DTSTART:19701025T030000
RRULE:FREQ=YEARLY;BYMONTH=10;BYDAY=-1SU
END:STANDARD
END:VTIMEZONE
BEGIN:VEVENT
UID:2485226:Event:2628968
DTSTAMP:20260421T155137Z
SUMMARY:marche vers soi, corps et âme
DESCRIPTION:Stage Méditation Pleine Conscience, Qi Gong et Arts Plast
 iques dans le Vercors. Souplesse du corps et de l'esprit, par la prés
 ence simple et authentique, l’intériorité et la conscience joyeuse
 , créer avec les ressentis, la spontanéité et la confiance de ce qu
 i arrive. \n\nPour plus d'information, aller sur https://epanews.fr/e
 vents/marche-vers-soi-corps-et-me
DTSTART;TZID=Europe/Paris:20160711T140000
DTEND;TZID=Europe/Paris:20160716T000000
CATEGORIES:26
LOCATION:Omblèze
WEBSITE:http://www.marcheetdessine.com
URL:http://www.marcheetdessine.com
CONTACT:0684442913
ORGANIZER:Laurence Medori
ATTACH;FMTTYPE="image/jpeg":http://storage.ning.com/topology/rest/1.0/
 file/get/1663556005?profile=original
ATTENDEE;ROLE=REQ-PARTICIPANT;PARTSTAT=ACCEPTED;RSVP=TRUE;CN="Laurence
  Medori":https://epanews.fr/profile/LM174
END:VEVENT
END:VCALENDAR
