BEGIN:VCALENDAR
PRODID:NingEventWidget-v1
VERSION:2.0
METHOD:PUBLISH
BEGIN:VTIMEZONE
TZID:Europe/Paris
X-LIC-LOCATION:Europe/Paris
BEGIN:DAYLIGHT
TZOFFSETFROM:+0100
TZOFFSETTO:+0200
TZNAME:CEST
DTSTART:19700329T020000
RRULE:FREQ=YEARLY;BYMONTH=3;BYDAY=-1SU
END:DAYLIGHT
BEGIN:STANDARD
TZOFFSETFROM:+0200
TZOFFSETTO:+0100
TZNAME:CET
DTSTART:19701025T030000
RRULE:FREQ=YEARLY;BYMONTH=10;BYDAY=-1SU
END:STANDARD
END:VTIMEZONE
BEGIN:VEVENT
UID:2485226:Event:2638666
DTSTAMP:20260421T155254Z
SUMMARY:Marche vers soi, corps et âme
DESCRIPTION:Du 11 au 16 juilletEn duo avec Jean-Jacques BroquetRencon
 tre avec soi, les autres et les paysages par la marche, le Qi Gong, le
  toucher révélateur, la Méditation Pleine Conscience et l’express
 ion artistique. Nous suivrons les chemins corporels pour libérer le r
 ayonnement et percevoir les subtilités existantes entre soi, les autr
 es et les alentours. Par la présence simple et authentique, l’inté
 riorité et la conscience joyeuse, nous créerons avec les ressentis, 
 la spontanéité et la confiance de ce qui arrive. écouter, toucher, 
 être touché, accueillir et révéler ce qui nous anime en résonance
  avec les majestueux paysages du Vercors : falaise, cascade, gorges, s
 ource et rivière...​Jean-Jacques Broquet est somatothérapeuthe (t
 hérapie psycho-corporelle), animateur de séminaires et instructeur d
 e pratiques de Pleine Conscience (Mindfullness) http://terredepleinec
 onscience66.fr/5 jours aux Gîtes du Frachet en Drôme VercorsStage 28
 0 euros + Hébergement/salle 100 + Repas en conscience partagée prép
 arés avec ce que chacun amène. \n \n\n\n\nPour plus d'information,
  aller sur https://epanews.fr/events/marche-vers-soi-corps-et-me-1
DTSTART;TZID=Europe/Paris:20160711T140000
DTEND;TZID=Europe/Paris:20160716T000000
CATEGORIES:26
LOCATION:Omblèze
WEBSITE:http://www.marcheetdessine.com
URL:http://www.marcheetdessine.com
CONTACT:0684442913
ORGANIZER:Laurence Medori
ATTACH;FMTTYPE="image/jpeg":http://storage.ning.com/topology/rest/1.0/
 file/get/1663561389?profile=original
ATTENDEE;ROLE=REQ-PARTICIPANT;PARTSTAT=ACCEPTED;RSVP=TRUE;CN="Laurence
  Medori":https://epanews.fr/profile/LM174
END:VEVENT
END:VCALENDAR
