BEGIN:VCALENDAR
PRODID:NingEventWidget-v1
VERSION:2.0
METHOD:PUBLISH
BEGIN:VTIMEZONE
TZID:Europe/Paris
X-LIC-LOCATION:Europe/Paris
BEGIN:DAYLIGHT
TZOFFSETFROM:+0100
TZOFFSETTO:+0200
TZNAME:CEST
DTSTART:19700329T020000
RRULE:FREQ=YEARLY;BYMONTH=3;BYDAY=-1SU
END:DAYLIGHT
BEGIN:STANDARD
TZOFFSETFROM:+0200
TZOFFSETTO:+0100
TZNAME:CET
DTSTART:19701025T030000
RRULE:FREQ=YEARLY;BYMONTH=10;BYDAY=-1SU
END:STANDARD
END:VTIMEZONE
BEGIN:VEVENT
UID:2485226:Event:136872
DTSTAMP:20260420T200807Z
SUMMARY:\"Marche ton histoire ... Marche les Mondes\"
DESCRIPTION:DIMANCHE 31 OCTOBRE\n\nde 9 heures 30 Ã  17 heures\n\nEN Y
 OURTE A GAGNIERES (30)\n\n\n\"MARCHE TON HISTOIRE... MARCHE LES MONDES
 \"\n\n31 octobre fÃªte de la rÃ©unification pour les Celtes (Samain),\
 njour du souvenir pour les ChrÃ©tiens,\nLe passÃ© se dÃ©voile, les che
 mins de guÃ©rison apparaissent.\nLes portes des perceptions subtiles s
 'ouvrent.\nPlus qu'une pause, c'est une trÃªve, un temps hors du temps
 .\nA la croisÃ©e des mondes, le chant de la Terre-MÃ¨re s'ouvre et nou
 s donne Ã  cÃ©lÃ©brer sa Sagesse et son Amour.\n\nVoyage en Esprit - r
 Ã©capitulation - dÃ©codage - pratiques de recouvrement de force et d'Ã
 ©nergie (tambours, bols tibÃ©tains, chants) -\nrituel d'offrandes\n\nt
 arif : 60 â‚¬ la journÃ©e\nPrÃ©voir un coussin, couverture, pique-niqu
 e\n\n\nINSCRIPTION (places limitÃ©es):\nSoara DEBARD\ntÃ©l. : 04 75 38
  40 69 / 06 80 73 62 04\nemail : soara.d@hotmail.fr\n\nPour plus d'inf
 ormation, aller sur https://epanews.fr/events/marche-ton-histoire-marc
 he
DTSTART;TZID=Europe/Paris:20101031T000000
DTEND;TZID=Europe/Paris:20101031T235900
CATEGORIES:30
LOCATION:EN YOURTE A GAGNIERES (30)
WEBSITE:
URL:
CONTACT:06 80 73 62 04
ORGANIZER;CN="Soara Debard":https://epanews.fr/profile/SoaraDebard
ATTACH;FMTTYPE="image/jpeg":http://storage.ning.com/topology/rest/1.0/
 file/get/1662351805?profile=original
ATTENDEE;ROLE=REQ-PARTICIPANT;PARTSTAT=ACCEPTED;RSVP=TRUE;CN="Soara De
 bard":https://epanews.fr/profile/SoaraDebard
END:VEVENT
END:VCALENDAR
