BEGIN:VCALENDAR
PRODID:NingEventWidget-v1
VERSION:2.0
METHOD:PUBLISH
BEGIN:VTIMEZONE
TZID:Europe/Paris
X-LIC-LOCATION:Europe/Paris
BEGIN:DAYLIGHT
TZOFFSETFROM:+0100
TZOFFSETTO:+0200
TZNAME:CEST
DTSTART:19700329T020000
RRULE:FREQ=YEARLY;BYMONTH=3;BYDAY=-1SU
END:DAYLIGHT
BEGIN:STANDARD
TZOFFSETFROM:+0200
TZOFFSETTO:+0100
TZNAME:CET
DTSTART:19701025T030000
RRULE:FREQ=YEARLY;BYMONTH=10;BYDAY=-1SU
END:STANDARD
END:VTIMEZONE
BEGIN:VEVENT
UID:2485226:Event:1612851
DTSTAMP:20260423T230903Z
SUMMARY:Modification demandée
DESCRIPTION:Marche à l'Isle sur la Sorgue\nDépart 10 H 30 à la gare
  de l'Isle sur la Sorgue\nRepas partagé\nSéance détente énergétiq
 ue en pleine nature\nRetour à l'Isle sur la Sorgue 16 H\nTarif 2 € 
 symboliques pour les adhérents à l'association Bien être.com, 4 €
  pour les non-adhérents.\n\nPour plus d'information, aller sur https:
 //epanews.fr/events/marche-l-isle-sur-la-sorgue
DTSTART;TZID=Europe/Paris:20131124T103000
DTEND;TZID=Europe/Paris:20131124T160000
CATEGORIES:"l'isle", sur, la, sorgue
LOCATION:L'Isle sur la Sorgue
WEBSITE:http://www.formesante.eklablog.fr
URL:http://www.formesante.eklablog.fr
CONTACT:06 75 94 44 02
ORGANIZER;CN=phytoenergie:https://epanews.fr/profile/phytoenergie
ATTACH;FMTTYPE="image/jpeg":
ATTENDEE;ROLE=REQ-PARTICIPANT;PARTSTAT=ACCEPTED;RSVP=TRUE;CN=phytoener
 gie:https://epanews.fr/profile/phytoenergie
END:VEVENT
END:VCALENDAR
