BEGIN:VCALENDAR
PRODID:NingEventWidget-v1
VERSION:2.0
METHOD:PUBLISH
BEGIN:VTIMEZONE
TZID:Europe/Paris
X-LIC-LOCATION:Europe/Paris
BEGIN:DAYLIGHT
TZOFFSETFROM:+0100
TZOFFSETTO:+0200
TZNAME:CEST
DTSTART:19700329T020000
RRULE:FREQ=YEARLY;BYMONTH=3;BYDAY=-1SU
END:DAYLIGHT
BEGIN:STANDARD
TZOFFSETFROM:+0200
TZOFFSETTO:+0100
TZNAME:CET
DTSTART:19701025T030000
RRULE:FREQ=YEARLY;BYMONTH=10;BYDAY=-1SU
END:STANDARD
END:VTIMEZONE
BEGIN:VEVENT
UID:2485226:Event:48951
DTSTAMP:20260419T213348Z
SUMMARY:Marche consciente sur le St Jacques ariÃ©geois
DESCRIPTION:Marche Consciente\nÂ« Marche ton chemin ! Â»\n\n\nCalmer l
 e mental, dÃ©tendre le corps, relaxer lâ€™esprit,\nAmÃ©liorer la circu
 lation de lâ€™Ã©nergie vitale, rÃ©gÃ©nÃ©rer toutes nos cellules,\nSe (
 re)centrer sur soi, s'enraciner dans son quotidien, s'aligner sur ses 
 choix et valeurs de vie,\nFaire la paix en Soi pour amÃ©liorer la rela
 tion Ã  soi-mÃªme et donc aux autres, en douceur et en confiance,\nEtr
 e PrÃ©sent et attentif Ã  lâ€™instant, Maintenant,\nSe relier avec son
  environnement et aux forces vives de la nature, (re)trouver la Joie p
 rofonde.\nDÃ©tente, VitalitÃ©, Joie !\n\nÂ« Quand le Pas se fait lent 
 et silencieux, nous communions avec notre mÃ©moire nomade, nos origine
 s bipÃ¨des, notre douce et puissante verticalitÃ© originelle. Alors, m
 archer vers soi mÃªme devient un chemin vers un Ã©tat dâ€™Ãªtre, oÃ¹ c
 haque pas nous re-lie Ã  notre essentiel, en rythme avec la Terre et a
 vec le souffle de Vie. Nous vivons dans la conscience lumineuse de not
 re place dans l'Univers, simplement. Â»\n\nLors de cette journÃ©e DÃ©c
 ouverte, nous pratiquerons :\n-la Marche consciente (invitation Ã  com
 munier, dans le mouvement du pas et du souffle, avec notre mÃ©moire pr
 imitive, nos racines profondes, notre nomadisme intÃ©rieur, en cohÃ©re
 nce, reliance et confiance ) : notre Etre Essentiel, bercÃ© par ce dÃ©
 sÃ©quilibre perpÃ©tuel trouve sa PrÃ©sence immobile.\n-la Marche afgha
 ne, (ensemble de rythmes respiratoires rÃ©gÃ©nÃ©rants et dynamisants) 
 pratiquÃ©e au quotidien nous procure vitalitÃ© et Ã©nergie !\n-le Â« S
 ouffle de lâ€™arbre Â» (ensemble dâ€™exercices simples, naturels et fa
 ciles Ã  accueillir pour une autonomie au quotidien) nous invite, en d
 ouceur, Ã  travailler sur notre centrage, notre enracinement et notre 
 verticalitÃ© intÃ©rieure.\n\n\nDates: samedi 8 mai\nProchaines dates l
 e 7 aout autour du lac de Montbel.\nA partir de septembre, ateliers rÃ
 ©guliers mensuels en AriÃ¨ge et Ã  Toulouse.\n\nInfos et rÃ©servations
  auprÃ¨s de Danielle :\nAssociation LE CHEMIN DE ST JACQUES du PIEMONT
  en ARIEGE-PYRENEES Ã  SAINT-LIZIER\nTel : 05 61 96 77 77\nstjacquesar
 iege@orange.fr\nwww.ariege.com/cheminstjacques\n\nPAF : 30â‚¬ Ã  verse
 r sur le compte: 210-74786302 pour garantir votre participation avec v
 otre adresse e mail et votre numÃ©ro de portable.\nGroupe limitÃ© Ã  1
 2 personnes-Inscription avant le 8 premier mai.\n\nRV Ã  9H30 sur la p
 lace du village de Vals, devant lâ€™Ã©glise rupestre. Retour prÃ©vu po
 ur 18H. Un rappel du lieu de RV, les derniÃ¨res infos, la mÃ©tÃ©o est 
 envoyÃ© au plus tard le vendredi fin de matinÃ©e par mail. Merci de pr
 Ã©voir une tenue adaptÃ©e Ã  la mÃ©tÃ©o du jour et un pic nic.\n\nTel 
 Marie-HÃ©lÃ¨ne: +32.484 21 32 16 Fixe : +33.977.196.662 skype :mhfaure
 s\nmhfaures@yahoo.fr\nwww.marcheconscienteauquotidien.over-blog.com\nw
 ww.geode.be\n\n\n\nDÃ©tente, VitalitÃ©, Joie !\n\nPour plus d'informat
 ion, aller sur https://epanews.fr/events/marche-consciente-sur-le-st
DTSTART;TZID=Europe/Paris:20100508T000000
DTEND;TZID=Europe/Paris:20100508T235900
CATEGORIES:09
LOCATION:Sentier de St Jacques ariÃ©geois
WEBSITE:http://www.marcheconscienteauquotidien.over-blog.com
URL:http://www.marcheconscienteauquotidien.over-blog.com
CONTACT:0977 196 662
ORGANIZER;CN="MariehÃ©lÃ¨ne FaurÃ¨s":https://epanews.fr/profile/MarieH
 eleneFaures
ATTACH;FMTTYPE="image/jpeg":http://storage.ning.com/topology/rest/1.0/
 file/get/1662296628?profile=original
ATTENDEE;ROLE=REQ-PARTICIPANT;PARTSTAT=ACCEPTED;RSVP=TRUE;CN="MariehÃ©
 lÃ¨ne FaurÃ¨s":https://epanews.fr/profile/MarieHeleneFaures
END:VEVENT
END:VCALENDAR
