BEGIN:VCALENDAR
PRODID:NingEventWidget-v1
VERSION:2.0
METHOD:PUBLISH
BEGIN:VTIMEZONE
TZID:Europe/Paris
X-LIC-LOCATION:Europe/Paris
BEGIN:DAYLIGHT
TZOFFSETFROM:+0100
TZOFFSETTO:+0200
TZNAME:CEST
DTSTART:19700329T020000
RRULE:FREQ=YEARLY;BYMONTH=3;BYDAY=-1SU
END:DAYLIGHT
BEGIN:STANDARD
TZOFFSETFROM:+0200
TZOFFSETTO:+0100
TZNAME:CET
DTSTART:19701025T030000
RRULE:FREQ=YEARLY;BYMONTH=10;BYDAY=-1SU
END:STANDARD
END:VTIMEZONE
BEGIN:VEVENT
UID:2485226:Event:530498
DTSTAMP:20260423T203204Z
SUMMARY:Marche Consciente Approche Trager sur la plage
DESCRIPTION:Â \nActivitÃ© proposÃ©e par Bruno Hugues qui la dÃ©crit ci
 -dessous :\nÂ \nMarcher, dans un but de dÃ©couverte des sensations liÃ
 ©es Ã  cette activitÃ© des plus simples mais qui peut nous transporter
 ...Pas de rythme de progressionÂ dÃ©fini, improvisation totale en fonc
 tion de la dynamique du groupe.\nPauses d'intÃ©gration psycho- corpore
 lle frÃ©quentes.Â Â Je souhaite partager, Ã©changer avec vous mes expÃ
 ©riences liÃ©es Ã  la marche et aux relations Ã©troites corps/esprit s
 ans se prendre trop au sÃ©rieux, juste Ãªtre prÃ©sents ensemble et pre
 ndre du bon temps.\nNous pratiquerons des mentastics (un des piliers d
 e l'approche Trager) ce qui consiste Ã  explorer des mouvements simple
 s, de se questionner Ã  leur sujetÂ et exprimer les sensations ressent
 ies.Â Â Â Â Â Â Â Â Â Â Â Â Â Â Â Â Â Â Â \nÂ Des moments de marche \"
 pieds libres\" sont prÃ©vus. De belles tranches de \"gateau au silence
 \" seront dÃ©gustÃ©es aussi...\nÂ \nAu plaisir de vous rencontrer\nNat
 halie\n\nparticipation libre pour les frais de dÃ©placement de Bruno\n
 Le groupe devrait Ãªtre clos Ã  12 personnes\n\nÂ \nÂ \n\nPour plus d'
 information, aller sur https://epanews.fr/events/marche-consciente-app
 roche-trager-sur-la-plage
DTSTART;TZID=Europe/Paris:20110924T163000
DTEND;TZID=Europe/Paris:20110924T193000
CATEGORIES:34
LOCATION:Montpellier
WEBSITE:
URL:
CONTACT:06 07 41 52 71 (Bruno)
ORGANIZER;CN="Nathalie Devos":https://epanews.fr/profile/NathalieDevos
ATTACH;FMTTYPE="image/jpeg":http://storage.ning.com/topology/rest/1.0/
 file/get/1662462438?profile=original
ATTENDEE;ROLE=REQ-PARTICIPANT;PARTSTAT=ACCEPTED;RSVP=TRUE;CN="Bruno So
 ns et Trager":https://epanews.fr/profile/BrunoHugues
ATTENDEE;ROLE=REQ-PARTICIPANT;PARTSTAT=ACCEPTED;RSVP=TRUE;CN="Nathalie
  Devos":https://epanews.fr/profile/NathalieDevos
ATTENDEE;ROLE=REQ-PARTICIPANT;PARTSTAT=TENTATIVE;RSVP=TRUE;CN=fullenwa
 rth:https://epanews.fr/profile/fullenwarth
END:VEVENT
END:VCALENDAR
