BEGIN:VCALENDAR
PRODID:NingEventWidget-v1
VERSION:2.0
METHOD:PUBLISH
BEGIN:VTIMEZONE
TZID:Europe/Paris
X-LIC-LOCATION:Europe/Paris
BEGIN:DAYLIGHT
TZOFFSETFROM:+0100
TZOFFSETTO:+0200
TZNAME:CEST
DTSTART:19700329T020000
RRULE:FREQ=YEARLY;BYMONTH=3;BYDAY=-1SU
END:DAYLIGHT
BEGIN:STANDARD
TZOFFSETFROM:+0200
TZOFFSETTO:+0100
TZNAME:CET
DTSTART:19701025T030000
RRULE:FREQ=YEARLY;BYMONTH=10;BYDAY=-1SU
END:STANDARD
END:VTIMEZONE
BEGIN:VEVENT
UID:2485226:Event:1177621
DTSTAMP:20260422T035820Z
SUMMARY:Marché de la Place d'Arme, Invité par le Festival Internatio
 nal de Street Painting
DESCRIPTION: Marché de la Place d'Arme, Invité par le Festival Int
 ernational de Street Painting Place d'Armes à Toulon  Le 26 mai 2013
    Dimanche de 10 à 18h   Artistes Peintres Des Créateurs de bijou
 x Artisans du bien-être (divers modelages...)  Entrée gratuit\n\nPou
 r plus d'information, aller sur https://epanews.fr/events/march-de-la-
 place-d-arme-invit-par-le-festival-international-de-1
DTSTART;TZID=Europe/Paris:20130526T100000
DTEND;TZID=Europe/Paris:20130526T180000
CATEGORIES:83
LOCATION:Toulon
WEBSITE:http://www.facebook.com/alliance.art.et.bienetre
URL:http://www.facebook.com/alliance.art.et.bienetre
CONTACT:06 59 26 21 95
ORGANIZER;CN="Alliance Art' & Bien-être":https://epanews.fr/profile/A
 llianceArtBienetre
ATTACH;FMTTYPE="image/jpeg":http://storage.ning.com/topology/rest/1.0/
 file/get/1662759077?profile=original
ATTENDEE;ROLE=REQ-PARTICIPANT;PARTSTAT=ACCEPTED;RSVP=TRUE;CN="Alliance
  Art' & Bien-être":https://epanews.fr/profile/AllianceArtBienetre
END:VEVENT
END:VCALENDAR
