BEGIN:VCALENDAR
PRODID:NingEventWidget-v1
VERSION:2.0
METHOD:PUBLISH
BEGIN:VTIMEZONE
TZID:Europe/Paris
X-LIC-LOCATION:Europe/Paris
BEGIN:DAYLIGHT
TZOFFSETFROM:+0100
TZOFFSETTO:+0200
TZNAME:CEST
DTSTART:19700329T020000
RRULE:FREQ=YEARLY;BYMONTH=3;BYDAY=-1SU
END:DAYLIGHT
BEGIN:STANDARD
TZOFFSETFROM:+0200
TZOFFSETTO:+0100
TZNAME:CET
DTSTART:19701025T030000
RRULE:FREQ=YEARLY;BYMONTH=10;BYDAY=-1SU
END:STANDARD
END:VTIMEZONE
BEGIN:VEVENT
UID:2485226:Event:950991
DTSTAMP:20260419T183426Z
SUMMARY:MarchÃ© d'Automne les 13 & 14 octobre 2012
DESCRIPTION:MarchÃ© d'Automne les 13 & 14 octobre 2012\nPromenade des 
 Plages du Mourillon Ã  Toulon Le samedi 13Â : de 13h Ã  19h\nLe dimanc
 he 14Â : de 10h Ã  18h\n\nLes Artisans de la rÃ©gion vous attendent po
 ur ce\ngrand MarchÃ© d'AutomneÂ :\n- CrÃ©ateurs - Bien-Ãªtre â€“ Beaut
 Ã© -\n- Produits issus du Commerce Ã©quitable -\n- Produits Naturels â
 €“ Produits Bio - \nEntrÃ©e libre - Parking gratuit â€“ AccÃ¨s handica
 pÃ© -\n\nPour plus d'information, aller sur https://epanews.fr/events/
 march-d-automne-les-13-14-octobre-2012
DTSTART;TZID=Europe/Paris:20121013T130000
DTEND;TZID=Europe/Paris:20121014T190000
CATEGORIES:83
LOCATION:Promenade des Plages du Mourillon Ã  Toulon
WEBSITE:http://www.facebook.com/alliance.art.et.bienetre
URL:http://www.facebook.com/alliance.art.et.bienetre
CONTACT:06 59 26 21 95
ORGANIZER;CN="Alliance Art' & Bien-Ãªtre":https://epanews.fr/profile/A
 llianceArtBienetre
ATTACH;FMTTYPE="image/jpeg":
ATTENDEE;ROLE=REQ-PARTICIPANT;PARTSTAT=ACCEPTED;RSVP=TRUE;CN="Patrick 
 MALLET":https://epanews.fr/profile/mallet
ATTENDEE;ROLE=REQ-PARTICIPANT;PARTSTAT=ACCEPTED;RSVP=TRUE;CN="bonnette
  jocelyne":https://epanews.fr/profile/bonnettejocelyne
ATTENDEE;ROLE=REQ-PARTICIPANT;PARTSTAT=ACCEPTED;RSVP=TRUE;CN="Christin
 e Gagnier":https://epanews.fr/profile/ChristineGagnier
ATTENDEE;ROLE=REQ-PARTICIPANT;PARTSTAT=ACCEPTED;RSVP=TRUE;CN="Alliance
  Art' & Bien-Ãªtre":https://epanews.fr/profile/AllianceArtBienetre
ATTENDEE;ROLE=REQ-PARTICIPANT;PARTSTAT=TENTATIVE;RSVP=TRUE;CN=danielst
 cyrsurmer:https://epanews.fr/profile/danielstcyrsurmer
END:VEVENT
END:VCALENDAR
