BEGIN:VCALENDAR
PRODID:NingEventWidget-v1
VERSION:2.0
METHOD:PUBLISH
BEGIN:VTIMEZONE
TZID:Europe/Paris
X-LIC-LOCATION:Europe/Paris
BEGIN:DAYLIGHT
TZOFFSETFROM:+0100
TZOFFSETTO:+0200
TZNAME:CEST
DTSTART:19700329T020000
RRULE:FREQ=YEARLY;BYMONTH=3;BYDAY=-1SU
END:DAYLIGHT
BEGIN:STANDARD
TZOFFSETFROM:+0200
TZOFFSETTO:+0100
TZNAME:CET
DTSTART:19701025T030000
RRULE:FREQ=YEARLY;BYMONTH=10;BYDAY=-1SU
END:STANDARD
END:VTIMEZONE
BEGIN:VEVENT
UID:2485226:Event:752440
DTSTAMP:20260424T094138Z
SUMMARY:Marc Vella concert gratuit dans le Var
DESCRIPTION:Concert gratuit de Marc Vella. A Nans-les-Pins, salle des 
 fêtes, le mardi 17 avril à 19h30 \"...de coeur à coeur, à la renc
 ontre des autres...\"  Marc Vella, pianiste nomade, 1er prix de compos
 ition à Rôme fera étape avec ses caravaniers à Nans-Les-Pins (83).
  www.marcvella.com\n\nPour plus d'information, aller sur https://epane
 ws.fr/events/marc-vella-concert-gratuit-dans-le-var
DTSTART;TZID=Europe/Paris:20120417T193000
DTEND;TZID=Europe/Paris:20120417T210000
CATEGORIES:83
LOCATION:Nans-les-Pins
WEBSITE:http://marcvella.com
URL:http://marcvella.com
CONTACT:
ORGANIZER:Marie-Claude - Viviane-Marie et ses ami(e)s
ATTACH;FMTTYPE="image/jpeg":http://storage.ning.com/topology/rest/1.0/
 file/get/1662582914?profile=original
ATTENDEE;ROLE=REQ-PARTICIPANT;PARTSTAT=ACCEPTED;RSVP=TRUE;CN=GILMUSTAN
 G:https://epanews.fr/profile/GILMUSTANG
ATTENDEE;ROLE=REQ-PARTICIPANT;PARTSTAT=ACCEPTED;RSVP=TRUE;CN=Arshi:htt
 ps://epanews.fr/profile/Arshi
END:VEVENT
END:VCALENDAR
