BEGIN:VCALENDAR
PRODID:NingEventWidget-v1
VERSION:2.0
METHOD:PUBLISH
BEGIN:VTIMEZONE
TZID:Europe/Paris
X-LIC-LOCATION:Europe/Paris
BEGIN:DAYLIGHT
TZOFFSETFROM:+0100
TZOFFSETTO:+0200
TZNAME:CEST
DTSTART:19700329T020000
RRULE:FREQ=YEARLY;BYMONTH=3;BYDAY=-1SU
END:DAYLIGHT
BEGIN:STANDARD
TZOFFSETFROM:+0200
TZOFFSETTO:+0100
TZNAME:CET
DTSTART:19701025T030000
RRULE:FREQ=YEARLY;BYMONTH=10;BYDAY=-1SU
END:STANDARD
END:VTIMEZONE
BEGIN:VEVENT
UID:2485226:Event:1379945
DTSTAMP:20260422T002332Z
SUMMARY:Mandala et expression de soi
DESCRIPTION:Invitation à s'exprimer au travers de mandalas, à se cen
 trer sur soi, à apprendre à s'écouter, à se découvrir, à mieux s
 e connaître...\nUn temps d'intimité avec soi-même qui amène déten
 te et bien être par l'expression de soi.\nCet atelier se situe à mi-
 chemin entre l'Art Thérapie et le Journal Créatif.\nTarif découvert
 e : 8€, tarif normal : 18€\n\n\nPour plus d'information, aller sur
  https://epanews.fr/events/mandala-et-expression-de-soi
DTSTART;TZID=Europe/Paris:20130612T190000
DTEND;TZID=Europe/Paris:20130612T210000
CATEGORIES:44
LOCATION:Sucé sur Erdre
WEBSITE:http://ateliers-ecriture-nantes.weebly.com
URL:http://ateliers-ecriture-nantes.weebly.com
CONTACT:0617063295
ORGANIZER;CN=Annabelle:https://epanews.fr/profile/Annabelle
ATTACH;FMTTYPE="image/jpeg":http://storage.ning.com/topology/rest/1.0/
 file/get/1662844945?profile=original
ATTENDEE;ROLE=REQ-PARTICIPANT;PARTSTAT=ACCEPTED;RSVP=TRUE;CN=Annabelle
 :https://epanews.fr/profile/Annabelle
END:VEVENT
END:VCALENDAR
