BEGIN:VCALENDAR
PRODID:NingEventWidget-v1
VERSION:2.0
METHOD:PUBLISH
BEGIN:VTIMEZONE
TZID:Europe/Paris
X-LIC-LOCATION:Europe/Paris
BEGIN:DAYLIGHT
TZOFFSETFROM:+0100
TZOFFSETTO:+0200
TZNAME:CEST
DTSTART:19700329T020000
RRULE:FREQ=YEARLY;BYMONTH=3;BYDAY=-1SU
END:DAYLIGHT
BEGIN:STANDARD
TZOFFSETFROM:+0200
TZOFFSETTO:+0100
TZNAME:CET
DTSTART:19701025T030000
RRULE:FREQ=YEARLY;BYMONTH=10;BYDAY=-1SU
END:STANDARD
END:VTIMEZONE
BEGIN:VEVENT
UID:2485226:Event:2315064
DTSTAMP:20260425T142110Z
SUMMARY:Mandala & Chromothérapie
DESCRIPTION:Conférence animée par Sylviane Magrini & Martine Naudi  
 Présentation des mandalas et la géométrie sacrée.  Pourquoi aime-t
 ’on ou pas une couleur ?   Rens. 06 21 05 43 53  Participation 5€\
 n\nPour plus d'information, aller sur https://epanews.fr/events/mandal
 a-chromoth-rapie
DTSTART;TZID=Europe/Paris:20150515T180000
DTEND;TZID=Europe/Paris:20150515T190000
CATEGORIES:83
LOCATION:Le Liber'Thé
WEBSITE:https://www.facebook.com/LeLiberThe/events?ref=page_internal
URL:https://www.facebook.com/LeLiberThe/events?ref=page_internal
CONTACT:0695500225
ORGANIZER:Le Liber'Thé
ATTACH;FMTTYPE="image/jpeg":http://storage.ning.com/topology/rest/1.0/
 file/get/1663390922?profile=original
ATTENDEE;ROLE=REQ-PARTICIPANT;PARTSTAT=ACCEPTED;RSVP=TRUE;CN="Alliance
  Art' & Bien-être":https://epanews.fr/profile/AllianceArtBienetre
END:VEVENT
END:VCALENDAR
