BEGIN:VCALENDAR
PRODID:NingEventWidget-v1
VERSION:2.0
METHOD:PUBLISH
BEGIN:VTIMEZONE
TZID:Europe/Paris
X-LIC-LOCATION:Europe/Paris
BEGIN:DAYLIGHT
TZOFFSETFROM:+0100
TZOFFSETTO:+0200
TZNAME:CEST
DTSTART:19700329T020000
RRULE:FREQ=YEARLY;BYMONTH=3;BYDAY=-1SU
END:DAYLIGHT
BEGIN:STANDARD
TZOFFSETFROM:+0200
TZOFFSETTO:+0100
TZNAME:CET
DTSTART:19701025T030000
RRULE:FREQ=YEARLY;BYMONTH=10;BYDAY=-1SU
END:STANDARD
END:VTIMEZONE
BEGIN:VEVENT
UID:2485226:Event:2405712
DTSTAMP:20260423T183907Z
SUMMARY:Maitreya et l'éveil de l'humanité
DESCRIPTION:Convaincue que Celui Qui Vient saura toucher à fond nos c
 oeurs et esprits lors du jour de sa déclaration devant le monde, j'ai
 de à informer les gens de l'émergence de Maitreya, l'Instructeur pou
 r toute l'humanité.Car c'est un événement sans pareil, qui va évei
 ller complètement notre conscience à notre véritable nature, pour q
 ue nous changions ce monde en un havre de paix, de fraternité et de b
 eauté.\nParticipation : 5 €, pour toutes les conférences du mois e
 n cours.\n\nPour plus d'information, aller sur https://epanews.fr/even
 ts/maitreya-et-l-veil-de-l-humanit
DTSTART;TZID=Europe/Paris:20151022T203000
DTEND;TZID=Europe/Paris:20151022T220000
CATEGORIES:75
LOCATION:Internet
WEBSITE:http://www.portes-arc-en-ciel.fr/detail-planning-1618-heide-gr
 oll-maitreya-et-leveil-de-lhumanite.html
URL:http://www.portes-arc-en-ciel.fr/detail-planning-1618-heide-groll-
 maitreya-et-leveil-de-lhumanite.html
CONTACT:
ORGANIZER;CN="Amis de Partage International":https://epanews.fr/profil
 e/AmisdePartageInternational
ATTACH;FMTTYPE="image/jpeg":
ATTENDEE;ROLE=REQ-PARTICIPANT;PARTSTAT=ACCEPTED;RSVP=TRUE;CN=poupous:h
 ttps://epanews.fr/profile/poupous
ATTENDEE;ROLE=REQ-PARTICIPANT;PARTSTAT=ACCEPTED;RSVP=TRUE;CN="Amis de 
 Partage International":https://epanews.fr/profile/AmisdePartageInterna
 tional
END:VEVENT
END:VCALENDAR
