BEGIN:VCALENDAR
PRODID:NingEventWidget-v1
VERSION:2.0
METHOD:PUBLISH
BEGIN:VTIMEZONE
TZID:Europe/Paris
X-LIC-LOCATION:Europe/Paris
BEGIN:DAYLIGHT
TZOFFSETFROM:+0100
TZOFFSETTO:+0200
TZNAME:CEST
DTSTART:19700329T020000
RRULE:FREQ=YEARLY;BYMONTH=3;BYDAY=-1SU
END:DAYLIGHT
BEGIN:STANDARD
TZOFFSETFROM:+0200
TZOFFSETTO:+0100
TZNAME:CET
DTSTART:19701025T030000
RRULE:FREQ=YEARLY;BYMONTH=10;BYDAY=-1SU
END:STANDARD
END:VTIMEZONE
BEGIN:VEVENT
UID:2485226:Event:2291084
DTSTAMP:20260422T084410Z
SUMMARY:Magnétisme et flux vitaux - Conférence La Crau 83
DESCRIPTION:\n \nLorsque nous évoquons le magnétisme, nous faisons 
 référence à cette énergie particulière nommée fluide vital. La f
 onction de cette énergie est avant tout de maintenir en vie les être
 s vivants : toutefois, elle peut être distribuée avec pour objectif 
 de soulager des maladies diverses.\nDe tous les temps, sur la surface 
 du globe, des hommes et des femmes ont de manière intuitive compris e
 t distribués cette énergie vitale, au profit de ceux qui souffrent. 
 .\nActuellement, il est encore difficile d’expliquer le magnétisme 
 humain et plus particulièrement l’action bénéfique que peut avoir
  un magnétiseur.\nMagnétiseuse depuis de nombreuses années, Pierret
 te nous invite à échanger autour de ce sujet.\n \nPierrette Zanardi
 ni  Magnétiseuse – Energéticienne\nTél. 06 32 22 48 08 ;  Mél.
  pierrette.zanardini@gmail.com\n\n5 euros adhérents Hesperus/ 12 euro
 s autres\n\nPour plus d'information, aller sur https://epanews.fr/even
 ts/magn-tisme-et-flux-vitaux-conf-rence-la-crau-83
DTSTART;TZID=Europe/Paris:20150529T193000
DTEND;TZID=Europe/Paris:20150529T213000
CATEGORIES:83
LOCATION:La Crau
WEBSITE:http://hesperu4.wix.com/hesperus#!-propos3/cqzs
URL:http://hesperu4.wix.com/hesperus#!-propos3/cqzs
CONTACT:06 70 38 60 68
ORGANIZER;CN=Hesperus:https://epanews.fr/profile/Hesperus
ATTACH;FMTTYPE="image/jpeg":http://storage.ning.com/topology/rest/1.0/
 file/get/1663371156?profile=original
ATTENDEE;ROLE=REQ-PARTICIPANT;PARTSTAT=ACCEPTED;RSVP=TRUE;CN=Hesperus:
 https://epanews.fr/profile/Hesperus
END:VEVENT
END:VCALENDAR
