BEGIN:VCALENDAR
PRODID:NingEventWidget-v1
VERSION:2.0
METHOD:PUBLISH
BEGIN:VTIMEZONE
TZID:Europe/Paris
X-LIC-LOCATION:Europe/Paris
BEGIN:DAYLIGHT
TZOFFSETFROM:+0100
TZOFFSETTO:+0200
TZNAME:CEST
DTSTART:19700329T020000
RRULE:FREQ=YEARLY;BYMONTH=3;BYDAY=-1SU
END:DAYLIGHT
BEGIN:STANDARD
TZOFFSETFROM:+0200
TZOFFSETTO:+0100
TZNAME:CET
DTSTART:19701025T030000
RRULE:FREQ=YEARLY;BYMONTH=10;BYDAY=-1SU
END:STANDARD
END:VTIMEZONE
BEGIN:VEVENT
UID:2485226:Event:646910
DTSTAMP:20260422T012825Z
SUMMARY:Magie et Bienfaits des Fleurs et des Plantes
DESCRIPTION:Au delà d'un savoir à humblement partager,je vous propos
 e d'aller à la rencontre de Dame Nature pour découvrir les Fleurs et
  Plantes du printemps.\nDurant cette journée, nous apprendrons à rec
 onnaitre quelques végétaux en lien avec le foie et la vésicule bili
 aire pour permettre à nos organismes  saturés,fatigués et pollués
  de s'alléger et se purifier.\nPour cela,nous fabriquerons alcoolatur
 es, macérats,..nous remémorant ainsi ce savoir ancestral émanant de
 s fruits et des parfums de la Terre Mère.\nTarif:70€\n\n\nPour plus
  d'information, aller sur https://epanews.fr/events/magie-et-bienfaits
 -des-fleurs-et-des-plantes
DTSTART;TZID=Europe/Paris:20120129T000000
DTEND;TZID=Europe/Paris:20120129T235900
CATEGORIES:83
LOCATION:Toulon
WEBSITE:http://nadine.penna@free.fr
URL:http://nadine.penna@free.fr
CONTACT:06 74 83 42 51
ORGANIZER;CN="Penna Nadine-Sarah":https://epanews.fr/profile/PennaNadi
 ne
ATTACH;FMTTYPE="image/jpeg":http://storage.ning.com/topology/rest/1.0/
 file/get/1662534283?profile=original
ATTENDEE;ROLE=REQ-PARTICIPANT;PARTSTAT=ACCEPTED;RSVP=TRUE;CN="Penna Na
 dine-Sarah":https://epanews.fr/profile/PennaNadine
END:VEVENT
END:VCALENDAR
