BEGIN:VCALENDAR
PRODID:NingEventWidget-v1
VERSION:2.0
METHOD:PUBLISH
BEGIN:VTIMEZONE
TZID:Europe/Paris
X-LIC-LOCATION:Europe/Paris
BEGIN:DAYLIGHT
TZOFFSETFROM:+0100
TZOFFSETTO:+0200
TZNAME:CEST
DTSTART:19700329T020000
RRULE:FREQ=YEARLY;BYMONTH=3;BYDAY=-1SU
END:DAYLIGHT
BEGIN:STANDARD
TZOFFSETFROM:+0200
TZOFFSETTO:+0100
TZNAME:CET
DTSTART:19701025T030000
RRULE:FREQ=YEARLY;BYMONTH=10;BYDAY=-1SU
END:STANDARD
END:VTIMEZONE
BEGIN:VEVENT
UID:2485226:Event:2858059
DTSTAMP:20260422T025641Z
SUMMARY:Maîtres de Sagesse de la Terre et d’Ailleurs
DESCRIPTION:- 11 h conférence : les Maîtres de Sagesse et Maitreya -
  Ateliers - 13 h – 14 h 15 collation offerte, échanges - 14 h 15 co
 nférence de Gerard Aartsen : « Ici pour aider : les ovnis et les gen
 s de l’espace ». - 17 h 45 méditer pour aider le monde - 19 h 30 a
 ccès à la librairie, temps d’échange, clôture de la journée\n\n
 Pour plus d'information, aller sur https://epanews.fr/events/ma-tres-d
 e-sagesse-de-la-terre-et-d-ailleurs
DTSTART;TZID=Europe/Paris:20171112T110000
DTEND;TZID=Europe/Paris:20171112T200000
CATEGORIES:69
LOCATION:Espace Hillel
WEBSITE:
URL:
CONTACT:
ORGANIZER;CN="Amis de Partage International":https://epanews.fr/profil
 e/AmisdePartageInternational
ATTACH;FMTTYPE="image/jpeg":http://storage.ning.com/topology/rest/1.0/
 file/get/1663680805?profile=original
ATTENDEE;ROLE=REQ-PARTICIPANT;PARTSTAT=ACCEPTED;RSVP=TRUE;CN="Amis de 
 Partage International":https://epanews.fr/profile/AmisdePartageInterna
 tional
END:VEVENT
END:VCALENDAR
