BEGIN:VCALENDAR
PRODID:NingEventWidget-v1
VERSION:2.0
METHOD:PUBLISH
BEGIN:VTIMEZONE
TZID:Europe/Paris
X-LIC-LOCATION:Europe/Paris
BEGIN:DAYLIGHT
TZOFFSETFROM:+0100
TZOFFSETTO:+0200
TZNAME:CEST
DTSTART:19700329T020000
RRULE:FREQ=YEARLY;BYMONTH=3;BYDAY=-1SU
END:DAYLIGHT
BEGIN:STANDARD
TZOFFSETFROM:+0200
TZOFFSETTO:+0100
TZNAME:CET
DTSTART:19701025T030000
RRULE:FREQ=YEARLY;BYMONTH=10;BYDAY=-1SU
END:STANDARD
END:VTIMEZONE
BEGIN:VEVENT
UID:2485226:Event:1555009
DTSTAMP:20260423T111003Z
SUMMARY:technique tipi
DESCRIPTION:\nÂ \nÂ \nÂ \nÂ \nJe partageÂ :\nÂ \nFormation publique gr
 atuite :\nÂ \nApprendre Ã  se libÃ©rer soi-mÃªme d'Ã©motions dÃ©sagrÃ©
 ables quand elles se prÃ©sentent au quotidien.\nÂ \nQui ne connait pas
  une ou plusieurs Ã©motions dÃ©sagrÃ©ables rÃ©currentes qui nous envah
 issent souvent dans un mÃªme type de situation ?\nÂ \n(colÃ¨re, peurs,
  angoisses, tristesse, stress, phobies, Ã©tat dÃ©pressif, etc.)\nÂ \nP
 resque toujours, ces Ã©motions ont pour racine une peur inconsciente d
 ont le corps a la mÃ©moire. C'est intellectuellement que nous essayons
  de rÃ©soudre le problÃ¨me, alors qu'il semble que tout se joue dans n
 otre corps. (le coeur bat fort, la gorge se serre, l'estomac se noue, 
 etc...)\nÂ \nJe vous invite Ã  cette formation publique qui permet d'a
 pprendre Ã  utiliser cette technique simpleÂ et incroyablement efficac
 e pour se libÃ©rer (souvent dÃ©finitivement) de ces Ã©motions dÃ©sagrÃ
 ©ables.\nÂ \nÂ \nÂ \nNous sommes tous dotÃ©s dâ€™une fonction autonome
  de rÃ©gulation Ã©motionnelle. Quâ€™il sâ€™agisse dâ€™un grave acciden
 t automobile ou dâ€™une rupture affective douloureuse, mÃªme si les jo
 urs, les semaines, les mois suivants sont difficiles, le traumatisme s
 e rÃ©sorbe peu Ã  peu, et, alors que nous pensions cela impossible, un
  jour, nous reconduisons avec insouciance et nous aimons avec bonheur 
 une autre personne. Mais pour certaines personnes, cette rÃ©gulation n
 e se fait pas. Le mÃ©canisme est bloquÃ© et, dans la plupart des cas, 
 la perturbation empire avec le temps !  Ces blocages concernent en fai
 t toutes nos difficultÃ©s Ã©motionnelles rÃ©currentes, celles qui sâ€™
 invitent systÃ©matiquement dans notre quotidien Ã  la moindre occasion
  : nos peurs, nos angoisses, nos phobies, nos anxiÃ©tÃ©s, nos stress, 
 nos agacements, nos inhibitionsâ€¦\nÂ \n\"Tipi\"Â technique d'identifi
 cation sensorielle des peurs inconscientes\nÂ \nÂ \nÂ \nLa formation s
 era animÃ©e parÂ Olivier HibonÂ (prÃ©sident de l'association des prati
 ciens Tipi France).\nÂ \nÂ \n\nPour plus d'information, aller sur http
 s://epanews.fr/events/m-thode-tipi
DTSTART;TZID=Europe/Paris:20131112T200000
DTEND;TZID=Europe/Paris:20131114T200000
CATEGORIES:74000
LOCATION:annecy et les environs
WEBSITE:
URL:
CONTACT:0673014135
ORGANIZER;CN="Millot Sabrina":https://epanews.fr/profile/MillotSabrina
ATTACH;FMTTYPE="image/jpeg":http://storage.ning.com/topology/rest/1.0/
 file/get/1662932373?profile=original
ATTENDEE;ROLE=REQ-PARTICIPANT;PARTSTAT=ACCEPTED;RSVP=TRUE;CN="Millot S
 abrina":https://epanews.fr/profile/MillotSabrina
END:VEVENT
END:VCALENDAR
