BEGIN:VCALENDAR
PRODID:NingEventWidget-v1
VERSION:2.0
METHOD:PUBLISH
BEGIN:VTIMEZONE
TZID:Europe/Paris
X-LIC-LOCATION:Europe/Paris
BEGIN:DAYLIGHT
TZOFFSETFROM:+0100
TZOFFSETTO:+0200
TZNAME:CEST
DTSTART:19700329T020000
RRULE:FREQ=YEARLY;BYMONTH=3;BYDAY=-1SU
END:DAYLIGHT
BEGIN:STANDARD
TZOFFSETFROM:+0200
TZOFFSETTO:+0100
TZNAME:CET
DTSTART:19701025T030000
RRULE:FREQ=YEARLY;BYMONTH=10;BYDAY=-1SU
END:STANDARD
END:VTIMEZONE
BEGIN:VEVENT
UID:2485226:Event:2900155
DTSTAMP:20260420T221533Z
SUMMARY:MÃ©diumnitÃ© Publique Paris
DESCRIPTION:Chers tous, je vous propose de nous retrouver pour une mÃ©
 diumnitÃ© publique suivie de questions-rÃ©ponses sur votre Ã©clairage 
 de vie Ã  PARIS le SAMEDI 2 DECEMBRE PROCHAIN Ã  partir de 14H30. Voic
 i le lien pour pouvoir rÃ©server vos places! N'hÃ©sitez pas Ã  m'envoy
 er un message au 06 50 62 90 05 si vous dÃ©sirez des informations comp
 lÃ©mentaires. Merci pour le partage!!!http://www.anne-medium.com/eveâ€
 ¦/mediumnite-publique-paris-3/\n\nPour plus d'information, aller sur h
 ttps://epanews.fr/events/m-diumnit-publique-paris
DTSTART;TZID=Europe/Paris:20171120T143000
DTEND;TZID=Europe/Paris:20171120T173000
CATEGORIES:75
LOCATION:Paris 14e
WEBSITE:
URL:
CONTACT:06 50 62 90 05
ORGANIZER;CN="Anne Medium Spirite":https://epanews.fr/profile/AnneMedi
 umSpirite
ATTACH;FMTTYPE="image/jpeg":http://storage.ning.com/topology/rest/1.0/
 file/get/1663698870?profile=original
ATTENDEE;ROLE=REQ-PARTICIPANT;PARTSTAT=ACCEPTED;RSVP=TRUE;CN="Anne Med
 ium Spirite":https://epanews.fr/profile/AnneMediumSpirite
END:VEVENT
END:VCALENDAR
