BEGIN:VCALENDAR
PRODID:NingEventWidget-v1
VERSION:2.0
METHOD:PUBLISH
BEGIN:VTIMEZONE
TZID:Europe/Paris
X-LIC-LOCATION:Europe/Paris
BEGIN:DAYLIGHT
TZOFFSETFROM:+0100
TZOFFSETTO:+0200
TZNAME:CEST
DTSTART:19700329T020000
RRULE:FREQ=YEARLY;BYMONTH=3;BYDAY=-1SU
END:DAYLIGHT
BEGIN:STANDARD
TZOFFSETFROM:+0200
TZOFFSETTO:+0100
TZNAME:CET
DTSTART:19701025T030000
RRULE:FREQ=YEARLY;BYMONTH=10;BYDAY=-1SU
END:STANDARD
END:VTIMEZONE
BEGIN:VEVENT
UID:2485226:Event:2843456
DTSTAMP:20260420T140030Z
SUMMARY:Méditer en pleine conscience : ateliers 2h du samedi
DESCRIPTION:Ateliers 2H en MEDITATION PLEINE CONSCIENCE.\nMéditer en 
 Pleine Conscience est une manière de poser intentionnellement son att
 ention sur les sensations corporelles, la respiration, ses pensées, p
 our accueillir ce qui surgit et ce qui est, sans vouloir changer, au m
 oment présent, instant après instant, sans jugements et avec bienvei
 llance pour soi.\nAteliers 2H \"En postures variées\" : différentes 
 postures méditatives : assise, mouvements méditatifs, marche conscie
 nte - pour cultiver une attitude d’être attentionné(e) dans sa vie
  instant après instant, en Pleine Conscience.\n11h - 13h : 1 samedi /
  mois  - 19h30- 21h30 - 1 jeudi / mois - \nDétails des dates sur l
 e site www.pleineconscience75.com\nTarifs : Forfait 3 cours : 66.00 /
  Unité : 25.00.\nInscription par mail svp / espacebeauregard75@yahoo
 .fr\nContacter Christiane Beaugé, enseignante MBSR Méditation Pleine
  Conscience ; sophrologue, relaxologue\n\nPour plus d'information, all
 er sur https://epanews.fr/events/m-diter-en-pleine-conscience-ateliers
 -2h-du-samedi
DTSTART;TZID=Europe/Paris:20170930T110000
DTEND;TZID=Europe/Paris:20170930T130000
CATEGORIES:75
LOCATION:Paris 75002
WEBSITE:http://pleineconscience75.com
URL:http://pleineconscience75.com
CONTACT:
ORGANIZER;CN="Christiane Beaugé":https://epanews.fr/profile/Christian
 eBeauge
ATTACH;FMTTYPE="image/jpeg":http://storage.ning.com/topology/rest/1.0/
 file/get/1663591970?profile=original
ATTENDEE;ROLE=REQ-PARTICIPANT;PARTSTAT=ACCEPTED;RSVP=TRUE;CN="Christia
 ne Beaugé":https://epanews.fr/profile/ChristianeBeauge
END:VEVENT
END:VCALENDAR
