BEGIN:VCALENDAR
PRODID:NingEventWidget-v1
VERSION:2.0
METHOD:PUBLISH
BEGIN:VTIMEZONE
TZID:Europe/Paris
X-LIC-LOCATION:Europe/Paris
BEGIN:DAYLIGHT
TZOFFSETFROM:+0100
TZOFFSETTO:+0200
TZNAME:CEST
DTSTART:19700329T020000
RRULE:FREQ=YEARLY;BYMONTH=3;BYDAY=-1SU
END:DAYLIGHT
BEGIN:STANDARD
TZOFFSETFROM:+0200
TZOFFSETTO:+0100
TZNAME:CET
DTSTART:19701025T030000
RRULE:FREQ=YEARLY;BYMONTH=10;BYDAY=-1SU
END:STANDARD
END:VTIMEZONE
BEGIN:VEVENT
UID:2485226:Event:825142
DTSTAMP:20260421T024056Z
SUMMARY:Méditations pour violoncelle et piano
DESCRIPTION:bonjour à tous,la compagnie Philippe Henry est heureuse d
 e vous convier à la première du récital \"Méditations pour violonc
 elle et piano\", qui sera donné par Delphine Ducruet et Philippe Henr
 y vendredi 1er juin à 18h30 et à 21h à Pignan. \n \nAttention, la
  capacité d'accueil étant limitée, vous devez impérativement rése
 rver pour l'une ou l'autre séance au 04 67 47 61 90 (tarif: 8 €, gr
 atuit pour les - de 12 ans)\nCe récital propose un temps de détente 
 et d'intériorisation, une page de douceur dans ce monde agité.Les pi
 èces qui la composent ont été choisies sur les mêmes critères qu'
 une musique de relaxation.Nous ne sommes pas loin du \"concert de sile
 nce\" du film \"la belle verte\" de Coline Serrault...Il est proposé 
 au public de manifester ses émotions autrement que par des applaudiss
 ements.Tout un langage à inventer...De courtes pièces romantiques, c
 hacune avec sa couleur rêveuse et méditative.Nordique, sanguine, ori
 entale, impressioniste, chaque oeuvre est une invitation au voyage int
 érieur, entre musique et silence.Chopin donne le ton, avec ses trois 
 \"Nocturnes\" spécialement arrangés par les interprêtes. Un pur bon
 heur extatique...Egalement au programme: Bach, Franck, César Cui, Bra
 hms, Massenet, Fauré, Granados, Debussy.Le silence a toujours le dern
 ier mot, juste après la sublime \"méditation\" de l'opéra \"Thaïs\
 " de Massenet.\n \nSi vous n'êtes pas disponible le 1er juin, vous a
 urez une deuxième chance le samedi 30 juin à 20h30 à Cournonterral,
  dans le cadre du festival \"les intimistes\".\nAu plaisir de vous y r
 etrouver!\n\nPour plus d'information, aller sur https://epanews.fr/eve
 nts/m-ditations-pour-violoncelle-et-piano
DTSTART;TZID=Europe/Paris:20120601T180000
DTEND;TZID=Europe/Paris:20120601T191500
CATEGORIES:34
LOCATION:Pignan (Montpellier)
WEBSITE:
URL:
CONTACT:04 67 47 61 90
ORGANIZER;CN=Henry:https://epanews.fr/profile/PhilippeHENRY
ATTACH;FMTTYPE="image/jpeg":http://storage.ning.com/topology/rest/1.0/
 file/get/1662613238?profile=original
ATTENDEE;ROLE=REQ-PARTICIPANT;PARTSTAT=ACCEPTED;RSVP=TRUE;CN=Henry:htt
 ps://epanews.fr/profile/PhilippeHENRY
END:VEVENT
END:VCALENDAR
