BEGIN:VCALENDAR
PRODID:NingEventWidget-v1
VERSION:2.0
METHOD:PUBLISH
BEGIN:VTIMEZONE
TZID:Europe/Paris
X-LIC-LOCATION:Europe/Paris
BEGIN:DAYLIGHT
TZOFFSETFROM:+0100
TZOFFSETTO:+0200
TZNAME:CEST
DTSTART:19700329T020000
RRULE:FREQ=YEARLY;BYMONTH=3;BYDAY=-1SU
END:DAYLIGHT
BEGIN:STANDARD
TZOFFSETFROM:+0200
TZOFFSETTO:+0100
TZNAME:CET
DTSTART:19701025T030000
RRULE:FREQ=YEARLY;BYMONTH=10;BYDAY=-1SU
END:STANDARD
END:VTIMEZONE
BEGIN:VEVENT
UID:2485226:Event:1796971
DTSTAMP:20260422T143101Z
SUMMARY:MÃ©ditation \"yeux dans les yeux\"
DESCRIPTION:Venez dÃ©couvrir la :\nMÃ©ditation Â« YEUX dans les YEUX Â
 »\nSamedi 1er mars de 14h30 Ã  15h30\nPROGRAMME :\n- Exercice Ã©nergÃ©
 tique\n- Marche mÃ©ditative\n- MÃ©ditation Â Â« yeux dans les yeux Â»\
 n- Visualisation\n- Etreinte\n- Partage\nObjectifsÂ :\n- Connaissance 
 de Soi\n- Confiance en Soi, Estime de Soi, Affirmation de Soi\n- Accep
 tation de Soi et des Autres\n- LÃ¢cher prise\n- Attitude et pensÃ©e po
 sitive\n- Gestion du stress\n- LibÃ©ration blessures, traumatismes\n- 
 LibÃ©ration de la peur d'Ãªtre jugÃ©, de ne pas Ãªtre Ã  la hauteur, p
 eur de l'Ã©chec, peur de mourir, peur de manquer...\n\"Que votre coeur
  se remplisseÂ d'Amour, de Paix, et d'Ã©nergie\"\nParis 15eme au 125 r
 ue castagnaryÂ \n( Sonnez Ã  Compagnie Candela)\nMÃ©tro plaisance, por
 te de vanves.Â \nTramway T3. Bus 95, 89, 62.\nPour la participation en
 voyer un SMS au 0658730742 avec votre nom, prÃ©nom, jour, heure du sta
 ge, tÃ©lÃ©phone. Un SMS de confirmation vous sera envoyÃ©.\n\nTarif : 
 8 euros\nwww.paul-magnetiseur-paris.fr\n\nPour plus d'information, all
 er sur https://epanews.fr/events/m-ditation-yeux-dans-les-yeux-1
DTSTART;TZID=Europe/Paris:20140301T143000
DTEND;TZID=Europe/Paris:20140301T153000
CATEGORIES:75015
LOCATION:Paris 15e
WEBSITE:http://www.paul-magnetiseur-paris.fr
URL:http://www.paul-magnetiseur-paris.fr
CONTACT:33658730742
ORGANIZER;CN="LE Paul":https://epanews.fr/profile/LEPaul
ATTACH;FMTTYPE="image/jpeg":
ATTENDEE;ROLE=REQ-PARTICIPANT;PARTSTAT=ACCEPTED;RSVP=TRUE;CN="LE Paul"
 :https://epanews.fr/profile/LEPaul
END:VEVENT
END:VCALENDAR
