BEGIN:VCALENDAR
PRODID:NingEventWidget-v1
VERSION:2.0
METHOD:PUBLISH
BEGIN:VTIMEZONE
TZID:Europe/Paris
X-LIC-LOCATION:Europe/Paris
BEGIN:DAYLIGHT
TZOFFSETFROM:+0100
TZOFFSETTO:+0200
TZNAME:CEST
DTSTART:19700329T020000
RRULE:FREQ=YEARLY;BYMONTH=3;BYDAY=-1SU
END:DAYLIGHT
BEGIN:STANDARD
TZOFFSETFROM:+0200
TZOFFSETTO:+0100
TZNAME:CET
DTSTART:19701025T030000
RRULE:FREQ=YEARLY;BYMONTH=10;BYDAY=-1SU
END:STANDARD
END:VTIMEZONE
BEGIN:VEVENT
UID:2485226:Event:2559835
DTSTAMP:20260421T193654Z
SUMMARY:méditation sonore
DESCRIPTION:Venez vous abreuver d’une énergie cristalline ressourç
 ante. Les instruments, le chant des baleines et la lyre de cristal pro
 duisent des sons tout à fait uniques. En fermant les yeux et en vous 
 laissant bercer par cette musique, vous atteindrez un repos profond et
  ressentirez une grande paix intérieure.La Lyre de cristal est comp
 osée de huit tubes de quartz pur (99.9 % SiO2). Elle est accordée 
 en 432 hertz, la fréquence de l'univers.La lyre de cristal facilite l
 a méditation et permet une déconnexion du mental.\nSur réservation\
 n\nPour plus d'information, aller sur https://epanews.fr/events/m-dita
 tion-sonore-4
DTSTART;TZID=Europe/Paris:20160121T190000
DTEND;TZID=Europe/Paris:20160121T200000
CATEGORIES:83
LOCATION:Toulon centre
WEBSITE:
URL:
CONTACT:0681364253
ORGANIZER;CN="Véronique Jaques":https://epanews.fr/profile/VeroniqueJ
 aques364
ATTACH;FMTTYPE="image/jpeg":http://storage.ning.com/topology/rest/1.0/
 file/get/1663517416?profile=original
ATTENDEE;ROLE=REQ-PARTICIPANT;PARTSTAT=ACCEPTED;RSVP=TRUE;CN="Véroniq
 ue Jaques":https://epanews.fr/profile/VeroniqueJaques364
END:VEVENT
END:VCALENDAR
